BEGIN:VCALENDAR
VERSION:2.0
PRODID:-//The Chick - ECPv6.15.20//NONSGML v1.0//EN
CALSCALE:GREGORIAN
METHOD:PUBLISH
X-WR-CALNAME:The Chick
X-ORIGINAL-URL:https://www.thechick.health
X-WR-CALDESC:Events for The Chick
REFRESH-INTERVAL;VALUE=DURATION:PT1H
X-Robots-Tag:noindex
X-PUBLISHED-TTL:PT1H
BEGIN:VTIMEZONE
TZID:America/New_York
BEGIN:DAYLIGHT
TZOFFSETFROM:-0500
TZOFFSETTO:-0400
TZNAME:EDT
DTSTART:20260308T070000
END:DAYLIGHT
BEGIN:STANDARD
TZOFFSETFROM:-0400
TZOFFSETTO:-0500
TZNAME:EST
DTSTART:20261101T060000
END:STANDARD
BEGIN:DAYLIGHT
TZOFFSETFROM:-0500
TZOFFSETTO:-0400
TZNAME:EDT
DTSTART:20270314T070000
END:DAYLIGHT
BEGIN:STANDARD
TZOFFSETFROM:-0400
TZOFFSETTO:-0500
TZNAME:EST
DTSTART:20271107T060000
END:STANDARD
BEGIN:DAYLIGHT
TZOFFSETFROM:-0500
TZOFFSETTO:-0400
TZNAME:EDT
DTSTART:20280312T070000
END:DAYLIGHT
BEGIN:STANDARD
TZOFFSETFROM:-0400
TZOFFSETTO:-0500
TZNAME:EST
DTSTART:20281105T060000
END:STANDARD
END:VTIMEZONE
BEGIN:VTIMEZONE
TZID:UTC
BEGIN:STANDARD
TZOFFSETFROM:+0000
TZOFFSETTO:+0000
TZNAME:UTC
DTSTART:20260101T000000
END:STANDARD
END:VTIMEZONE
BEGIN:VEVENT
DTSTART;TZID=America/New_York:20271001T101500
DTEND;TZID=America/New_York:20271001T110000
DTSTAMP:20260420T035018
CREATED:20241125T062803Z
LAST-MODIFIED:20241221T044407Z
UID:10003811-1822385700-1822388400@www.thechick.health
SUMMARY:Chair Yoga
DESCRIPTION:Join me on Fridays from 10:15 – 11:00 for a chair yoga session designed to give you all the benefits of yoga without the need to get on the floor\, have special equipment or break a sweat! \n15 East Main Street\, Suite 109 Westminster\, MD. in the Winchester Exchange Building
URL:https://www.thechick.health/event/chair-yoga/2027-10-01/
ORGANIZER;CN="The Chick":MAILTO:brooke@thechick.health
END:VEVENT
BEGIN:VEVENT
DTSTART;TZID=UTC:20271003T083000
DTEND;TZID=UTC:20271003T093000
DTSTAMP:20260420T035018
CREATED:20241112T020931Z
LAST-MODIFIED:20241202T075126Z
UID:10000417-1822552200-1822555800@www.thechick.health
SUMMARY:Sunday Morning Vinyasa Flow
DESCRIPTION:An energetic Sunday morning flow designed to work on mindfulness\, asana work\, breath work and connection.
URL:https://www.thechick.health/event/sunday-morning-vinyasa-flow/2027-10-03/
LOCATION:Inspired by Yoga\, 4500 Black Rock Road\, Hampstead\, MD\, 21074\, United States
END:VEVENT
BEGIN:VEVENT
DTSTART;TZID=America/New_York:20271003T100000
DTEND;TZID=America/New_York:20271003T111500
DTSTAMP:20260420T035018
CREATED:20241125T052319Z
LAST-MODIFIED:20241202T194012Z
UID:10003288-1822557600-1822562100@www.thechick.health
SUMMARY:Sunday Morning Yin
DESCRIPTION:An extra long 75 minute delicious Yin practice!  Release the mind\, body and spirit every Sunday\, making your Mondays awesome!
URL:https://www.thechick.health/event/sunday-morning-yin/2027-10-03/
LOCATION:Inspired by Yoga\, 4500 Black Rock Road\, Hampstead\, MD\, 21074\, United States
END:VEVENT
BEGIN:VEVENT
DTSTART;TZID=UTC:20271005T091500
DTEND;TZID=UTC:20271005T101500
DTSTAMP:20260420T035018
CREATED:20241125T053230Z
LAST-MODIFIED:20241127T233817Z
UID:10002764-1822727700-1822731300@www.thechick.health
SUMMARY:Lengthen to Strengthen
DESCRIPTION:Combining Yin\, Hatha and Vinyasa this class takes place in a warm\, not hot room.  The release of fascia\, the opening of the mind and spirit sprinkled with yogic philosophy will have you feeling 10 feet tall and ready to take on all that the outside world has to offer.  Lighten your day with this full body workout and leave with a smile on your face!
URL:https://www.thechick.health/event/lengthen-to-strengthen/2027-10-05/
LOCATION:Inspired by Yoga\, 4500 Black Rock Road\, Hampstead\, MD\, 21074\, United States
END:VEVENT
BEGIN:VEVENT
DTSTART;TZID=UTC:20271006T113000
DTEND;TZID=UTC:20271006T170000
DTSTAMP:20260420T035018
CREATED:20241207T015758Z
LAST-MODIFIED:20241207T015758Z
UID:10006682-1822822200-1822842000@www.thechick.health
SUMMARY:Office Hours
DESCRIPTION:Stop by my office at 15 East Main Street\, Suite 109 in beautiful Downtown Westminster\, Maryland.  Specifically\, the Winchester Exchange Building. \nIf my door is open\, you are always welcome!  Please\, if the door is closed\, knock first before entering. \nA calm and serene location to begin or continue your journey in wellness.
URL:https://www.thechick.health/event/office-hours/2027-10-06/
END:VEVENT
BEGIN:VEVENT
DTSTART;TZID=America/New_York:20271008T101500
DTEND;TZID=America/New_York:20271008T110000
DTSTAMP:20260420T035018
CREATED:20241125T062803Z
LAST-MODIFIED:20241221T044407Z
UID:10003812-1822990500-1822993200@www.thechick.health
SUMMARY:Chair Yoga
DESCRIPTION:Join me on Fridays from 10:15 – 11:00 for a chair yoga session designed to give you all the benefits of yoga without the need to get on the floor\, have special equipment or break a sweat! \n15 East Main Street\, Suite 109 Westminster\, MD. in the Winchester Exchange Building
URL:https://www.thechick.health/event/chair-yoga/2027-10-08/
ORGANIZER;CN="The Chick":MAILTO:brooke@thechick.health
END:VEVENT
BEGIN:VEVENT
DTSTART;TZID=UTC:20271010T083000
DTEND;TZID=UTC:20271010T093000
DTSTAMP:20260420T035018
CREATED:20241112T020931Z
LAST-MODIFIED:20241202T075126Z
UID:10000418-1823157000-1823160600@www.thechick.health
SUMMARY:Sunday Morning Vinyasa Flow
DESCRIPTION:An energetic Sunday morning flow designed to work on mindfulness\, asana work\, breath work and connection.
URL:https://www.thechick.health/event/sunday-morning-vinyasa-flow/2027-10-10/
LOCATION:Inspired by Yoga\, 4500 Black Rock Road\, Hampstead\, MD\, 21074\, United States
END:VEVENT
BEGIN:VEVENT
DTSTART;TZID=America/New_York:20271010T100000
DTEND;TZID=America/New_York:20271010T111500
DTSTAMP:20260420T035018
CREATED:20241125T052319Z
LAST-MODIFIED:20241202T194012Z
UID:10003289-1823162400-1823166900@www.thechick.health
SUMMARY:Sunday Morning Yin
DESCRIPTION:An extra long 75 minute delicious Yin practice!  Release the mind\, body and spirit every Sunday\, making your Mondays awesome!
URL:https://www.thechick.health/event/sunday-morning-yin/2027-10-10/
LOCATION:Inspired by Yoga\, 4500 Black Rock Road\, Hampstead\, MD\, 21074\, United States
END:VEVENT
BEGIN:VEVENT
DTSTART;TZID=UTC:20271012T091500
DTEND;TZID=UTC:20271012T101500
DTSTAMP:20260420T035018
CREATED:20241125T053230Z
LAST-MODIFIED:20241127T233817Z
UID:10002765-1823332500-1823336100@www.thechick.health
SUMMARY:Lengthen to Strengthen
DESCRIPTION:Combining Yin\, Hatha and Vinyasa this class takes place in a warm\, not hot room.  The release of fascia\, the opening of the mind and spirit sprinkled with yogic philosophy will have you feeling 10 feet tall and ready to take on all that the outside world has to offer.  Lighten your day with this full body workout and leave with a smile on your face!
URL:https://www.thechick.health/event/lengthen-to-strengthen/2027-10-12/
LOCATION:Inspired by Yoga\, 4500 Black Rock Road\, Hampstead\, MD\, 21074\, United States
END:VEVENT
BEGIN:VEVENT
DTSTART;TZID=UTC:20271013T113000
DTEND;TZID=UTC:20271013T170000
DTSTAMP:20260420T035018
CREATED:20241207T015758Z
LAST-MODIFIED:20241207T015758Z
UID:10006683-1823427000-1823446800@www.thechick.health
SUMMARY:Office Hours
DESCRIPTION:Stop by my office at 15 East Main Street\, Suite 109 in beautiful Downtown Westminster\, Maryland.  Specifically\, the Winchester Exchange Building. \nIf my door is open\, you are always welcome!  Please\, if the door is closed\, knock first before entering. \nA calm and serene location to begin or continue your journey in wellness.
URL:https://www.thechick.health/event/office-hours/2027-10-13/
END:VEVENT
BEGIN:VEVENT
DTSTART;TZID=America/New_York:20271015T101500
DTEND;TZID=America/New_York:20271015T110000
DTSTAMP:20260420T035018
CREATED:20241125T062803Z
LAST-MODIFIED:20241221T044407Z
UID:10003813-1823595300-1823598000@www.thechick.health
SUMMARY:Chair Yoga
DESCRIPTION:Join me on Fridays from 10:15 – 11:00 for a chair yoga session designed to give you all the benefits of yoga without the need to get on the floor\, have special equipment or break a sweat! \n15 East Main Street\, Suite 109 Westminster\, MD. in the Winchester Exchange Building
URL:https://www.thechick.health/event/chair-yoga/2027-10-15/
ORGANIZER;CN="The Chick":MAILTO:brooke@thechick.health
END:VEVENT
BEGIN:VEVENT
DTSTART;TZID=UTC:20271017T083000
DTEND;TZID=UTC:20271017T093000
DTSTAMP:20260420T035018
CREATED:20241112T020931Z
LAST-MODIFIED:20241202T075126Z
UID:10000419-1823761800-1823765400@www.thechick.health
SUMMARY:Sunday Morning Vinyasa Flow
DESCRIPTION:An energetic Sunday morning flow designed to work on mindfulness\, asana work\, breath work and connection.
URL:https://www.thechick.health/event/sunday-morning-vinyasa-flow/2027-10-17/
LOCATION:Inspired by Yoga\, 4500 Black Rock Road\, Hampstead\, MD\, 21074\, United States
END:VEVENT
BEGIN:VEVENT
DTSTART;TZID=America/New_York:20271017T100000
DTEND;TZID=America/New_York:20271017T111500
DTSTAMP:20260420T035018
CREATED:20241125T052319Z
LAST-MODIFIED:20241202T194012Z
UID:10003290-1823767200-1823771700@www.thechick.health
SUMMARY:Sunday Morning Yin
DESCRIPTION:An extra long 75 minute delicious Yin practice!  Release the mind\, body and spirit every Sunday\, making your Mondays awesome!
URL:https://www.thechick.health/event/sunday-morning-yin/2027-10-17/
LOCATION:Inspired by Yoga\, 4500 Black Rock Road\, Hampstead\, MD\, 21074\, United States
END:VEVENT
BEGIN:VEVENT
DTSTART;TZID=UTC:20271019T091500
DTEND;TZID=UTC:20271019T101500
DTSTAMP:20260420T035018
CREATED:20241125T053230Z
LAST-MODIFIED:20241127T233817Z
UID:10002766-1823937300-1823940900@www.thechick.health
SUMMARY:Lengthen to Strengthen
DESCRIPTION:Combining Yin\, Hatha and Vinyasa this class takes place in a warm\, not hot room.  The release of fascia\, the opening of the mind and spirit sprinkled with yogic philosophy will have you feeling 10 feet tall and ready to take on all that the outside world has to offer.  Lighten your day with this full body workout and leave with a smile on your face!
URL:https://www.thechick.health/event/lengthen-to-strengthen/2027-10-19/
LOCATION:Inspired by Yoga\, 4500 Black Rock Road\, Hampstead\, MD\, 21074\, United States
END:VEVENT
BEGIN:VEVENT
DTSTART;TZID=UTC:20271020T113000
DTEND;TZID=UTC:20271020T170000
DTSTAMP:20260420T035018
CREATED:20241207T015758Z
LAST-MODIFIED:20241207T015758Z
UID:10006684-1824031800-1824051600@www.thechick.health
SUMMARY:Office Hours
DESCRIPTION:Stop by my office at 15 East Main Street\, Suite 109 in beautiful Downtown Westminster\, Maryland.  Specifically\, the Winchester Exchange Building. \nIf my door is open\, you are always welcome!  Please\, if the door is closed\, knock first before entering. \nA calm and serene location to begin or continue your journey in wellness.
URL:https://www.thechick.health/event/office-hours/2027-10-20/
END:VEVENT
BEGIN:VEVENT
DTSTART;TZID=America/New_York:20271022T101500
DTEND;TZID=America/New_York:20271022T110000
DTSTAMP:20260420T035018
CREATED:20241125T062803Z
LAST-MODIFIED:20241221T044407Z
UID:10003814-1824200100-1824202800@www.thechick.health
SUMMARY:Chair Yoga
DESCRIPTION:Join me on Fridays from 10:15 – 11:00 for a chair yoga session designed to give you all the benefits of yoga without the need to get on the floor\, have special equipment or break a sweat! \n15 East Main Street\, Suite 109 Westminster\, MD. in the Winchester Exchange Building
URL:https://www.thechick.health/event/chair-yoga/2027-10-22/
ORGANIZER;CN="The Chick":MAILTO:brooke@thechick.health
END:VEVENT
BEGIN:VEVENT
DTSTART;TZID=UTC:20271024T083000
DTEND;TZID=UTC:20271024T093000
DTSTAMP:20260420T035018
CREATED:20241112T020931Z
LAST-MODIFIED:20241202T075126Z
UID:10000420-1824366600-1824370200@www.thechick.health
SUMMARY:Sunday Morning Vinyasa Flow
DESCRIPTION:An energetic Sunday morning flow designed to work on mindfulness\, asana work\, breath work and connection.
URL:https://www.thechick.health/event/sunday-morning-vinyasa-flow/2027-10-24/
LOCATION:Inspired by Yoga\, 4500 Black Rock Road\, Hampstead\, MD\, 21074\, United States
END:VEVENT
BEGIN:VEVENT
DTSTART;TZID=America/New_York:20271024T100000
DTEND;TZID=America/New_York:20271024T111500
DTSTAMP:20260420T035018
CREATED:20241125T052319Z
LAST-MODIFIED:20241202T194012Z
UID:10003291-1824372000-1824376500@www.thechick.health
SUMMARY:Sunday Morning Yin
DESCRIPTION:An extra long 75 minute delicious Yin practice!  Release the mind\, body and spirit every Sunday\, making your Mondays awesome!
URL:https://www.thechick.health/event/sunday-morning-yin/2027-10-24/
LOCATION:Inspired by Yoga\, 4500 Black Rock Road\, Hampstead\, MD\, 21074\, United States
END:VEVENT
BEGIN:VEVENT
DTSTART;TZID=UTC:20271026T091500
DTEND;TZID=UTC:20271026T101500
DTSTAMP:20260420T035018
CREATED:20241125T053230Z
LAST-MODIFIED:20241127T233817Z
UID:10002767-1824542100-1824545700@www.thechick.health
SUMMARY:Lengthen to Strengthen
DESCRIPTION:Combining Yin\, Hatha and Vinyasa this class takes place in a warm\, not hot room.  The release of fascia\, the opening of the mind and spirit sprinkled with yogic philosophy will have you feeling 10 feet tall and ready to take on all that the outside world has to offer.  Lighten your day with this full body workout and leave with a smile on your face!
URL:https://www.thechick.health/event/lengthen-to-strengthen/2027-10-26/
LOCATION:Inspired by Yoga\, 4500 Black Rock Road\, Hampstead\, MD\, 21074\, United States
END:VEVENT
BEGIN:VEVENT
DTSTART;TZID=UTC:20271027T113000
DTEND;TZID=UTC:20271027T170000
DTSTAMP:20260420T035018
CREATED:20241207T015758Z
LAST-MODIFIED:20241207T015758Z
UID:10006685-1824636600-1824656400@www.thechick.health
SUMMARY:Office Hours
DESCRIPTION:Stop by my office at 15 East Main Street\, Suite 109 in beautiful Downtown Westminster\, Maryland.  Specifically\, the Winchester Exchange Building. \nIf my door is open\, you are always welcome!  Please\, if the door is closed\, knock first before entering. \nA calm and serene location to begin or continue your journey in wellness.
URL:https://www.thechick.health/event/office-hours/2027-10-27/
END:VEVENT
BEGIN:VEVENT
DTSTART;TZID=America/New_York:20271029T101500
DTEND;TZID=America/New_York:20271029T110000
DTSTAMP:20260420T035018
CREATED:20241125T062803Z
LAST-MODIFIED:20241221T044407Z
UID:10003815-1824804900-1824807600@www.thechick.health
SUMMARY:Chair Yoga
DESCRIPTION:Join me on Fridays from 10:15 – 11:00 for a chair yoga session designed to give you all the benefits of yoga without the need to get on the floor\, have special equipment or break a sweat! \n15 East Main Street\, Suite 109 Westminster\, MD. in the Winchester Exchange Building
URL:https://www.thechick.health/event/chair-yoga/2027-10-29/
ORGANIZER;CN="The Chick":MAILTO:brooke@thechick.health
END:VEVENT
BEGIN:VEVENT
DTSTART;TZID=UTC:20271031T083000
DTEND;TZID=UTC:20271031T093000
DTSTAMP:20260420T035018
CREATED:20241112T020931Z
LAST-MODIFIED:20241202T075126Z
UID:10000421-1824971400-1824975000@www.thechick.health
SUMMARY:Sunday Morning Vinyasa Flow
DESCRIPTION:An energetic Sunday morning flow designed to work on mindfulness\, asana work\, breath work and connection.
URL:https://www.thechick.health/event/sunday-morning-vinyasa-flow/2027-10-31/
LOCATION:Inspired by Yoga\, 4500 Black Rock Road\, Hampstead\, MD\, 21074\, United States
END:VEVENT
BEGIN:VEVENT
DTSTART;TZID=America/New_York:20271031T100000
DTEND;TZID=America/New_York:20271031T111500
DTSTAMP:20260420T035018
CREATED:20241125T052319Z
LAST-MODIFIED:20241202T194012Z
UID:10003292-1824976800-1824981300@www.thechick.health
SUMMARY:Sunday Morning Yin
DESCRIPTION:An extra long 75 minute delicious Yin practice!  Release the mind\, body and spirit every Sunday\, making your Mondays awesome!
URL:https://www.thechick.health/event/sunday-morning-yin/2027-10-31/
LOCATION:Inspired by Yoga\, 4500 Black Rock Road\, Hampstead\, MD\, 21074\, United States
END:VEVENT
END:VCALENDAR