BEGIN:VCALENDAR
VERSION:2.0
PRODID:-//The Chick - ECPv6.15.20//NONSGML v1.0//EN
CALSCALE:GREGORIAN
METHOD:PUBLISH
X-ORIGINAL-URL:https://www.thechick.health
X-WR-CALDESC:Events for The Chick
REFRESH-INTERVAL;VALUE=DURATION:PT1H
X-Robots-Tag:noindex
X-PUBLISHED-TTL:PT1H
BEGIN:VTIMEZONE
TZID:America/New_York
BEGIN:DAYLIGHT
TZOFFSETFROM:-0500
TZOFFSETTO:-0400
TZNAME:EDT
DTSTART:20260308T070000
END:DAYLIGHT
BEGIN:STANDARD
TZOFFSETFROM:-0400
TZOFFSETTO:-0500
TZNAME:EST
DTSTART:20261101T060000
END:STANDARD
BEGIN:DAYLIGHT
TZOFFSETFROM:-0500
TZOFFSETTO:-0400
TZNAME:EDT
DTSTART:20270314T070000
END:DAYLIGHT
BEGIN:STANDARD
TZOFFSETFROM:-0400
TZOFFSETTO:-0500
TZNAME:EST
DTSTART:20271107T060000
END:STANDARD
BEGIN:DAYLIGHT
TZOFFSETFROM:-0500
TZOFFSETTO:-0400
TZNAME:EDT
DTSTART:20280312T070000
END:DAYLIGHT
BEGIN:STANDARD
TZOFFSETFROM:-0400
TZOFFSETTO:-0500
TZNAME:EST
DTSTART:20281105T060000
END:STANDARD
END:VTIMEZONE
BEGIN:VTIMEZONE
TZID:UTC
BEGIN:STANDARD
TZOFFSETFROM:+0000
TZOFFSETTO:+0000
TZNAME:UTC
DTSTART:20260101T000000
END:STANDARD
END:VTIMEZONE
BEGIN:VEVENT
DTSTART;TZID=America/New_York:20270108T101500
DTEND;TZID=America/New_York:20270108T110000
DTSTAMP:20260419T223329
CREATED:20241125T062803Z
LAST-MODIFIED:20241221T044407Z
UID:10003773-1799403300-1799406000@www.thechick.health
SUMMARY:Chair Yoga
DESCRIPTION:Join me on Fridays from 10:15 – 11:00 for a chair yoga session designed to give you all the benefits of yoga without the need to get on the floor\, have special equipment or break a sweat! \n15 East Main Street\, Suite 109 Westminster\, MD. in the Winchester Exchange Building
URL:https://www.thechick.health/event/chair-yoga/2027-01-08/
ORGANIZER;CN="The Chick":MAILTO:brooke@thechick.health
END:VEVENT
BEGIN:VEVENT
DTSTART;TZID=UTC:20270110T083000
DTEND;TZID=UTC:20270110T093000
DTSTAMP:20260419T223329
CREATED:20241112T020931Z
LAST-MODIFIED:20241202T075126Z
UID:10000379-1799569800-1799573400@www.thechick.health
SUMMARY:Sunday Morning Vinyasa Flow
DESCRIPTION:An energetic Sunday morning flow designed to work on mindfulness\, asana work\, breath work and connection.
URL:https://www.thechick.health/event/sunday-morning-vinyasa-flow/2027-01-10/
LOCATION:Inspired by Yoga\, 4500 Black Rock Road\, Hampstead\, MD\, 21074\, United States
END:VEVENT
BEGIN:VEVENT
DTSTART;TZID=America/New_York:20270110T100000
DTEND;TZID=America/New_York:20270110T111500
DTSTAMP:20260419T223329
CREATED:20241125T052319Z
LAST-MODIFIED:20241202T194012Z
UID:10003250-1799575200-1799579700@www.thechick.health
SUMMARY:Sunday Morning Yin
DESCRIPTION:An extra long 75 minute delicious Yin practice!  Release the mind\, body and spirit every Sunday\, making your Mondays awesome!
URL:https://www.thechick.health/event/sunday-morning-yin/2027-01-10/
LOCATION:Inspired by Yoga\, 4500 Black Rock Road\, Hampstead\, MD\, 21074\, United States
END:VEVENT
BEGIN:VEVENT
DTSTART;TZID=UTC:20270112T091500
DTEND;TZID=UTC:20270112T101500
DTSTAMP:20260419T223329
CREATED:20241125T053230Z
LAST-MODIFIED:20241127T233817Z
UID:10002726-1799745300-1799748900@www.thechick.health
SUMMARY:Lengthen to Strengthen
DESCRIPTION:Combining Yin\, Hatha and Vinyasa this class takes place in a warm\, not hot room.  The release of fascia\, the opening of the mind and spirit sprinkled with yogic philosophy will have you feeling 10 feet tall and ready to take on all that the outside world has to offer.  Lighten your day with this full body workout and leave with a smile on your face!
URL:https://www.thechick.health/event/lengthen-to-strengthen/2027-01-12/
LOCATION:Inspired by Yoga\, 4500 Black Rock Road\, Hampstead\, MD\, 21074\, United States
END:VEVENT
BEGIN:VEVENT
DTSTART;TZID=UTC:20270113T113000
DTEND;TZID=UTC:20270113T170000
DTSTAMP:20260419T223329
CREATED:20241207T015758Z
LAST-MODIFIED:20241207T015758Z
UID:10006644-1799839800-1799859600@www.thechick.health
SUMMARY:Office Hours
DESCRIPTION:Stop by my office at 15 East Main Street\, Suite 109 in beautiful Downtown Westminster\, Maryland.  Specifically\, the Winchester Exchange Building. \nIf my door is open\, you are always welcome!  Please\, if the door is closed\, knock first before entering. \nA calm and serene location to begin or continue your journey in wellness.
URL:https://www.thechick.health/event/office-hours/2027-01-13/
END:VEVENT
BEGIN:VEVENT
DTSTART;TZID=America/New_York:20270115T101500
DTEND;TZID=America/New_York:20270115T110000
DTSTAMP:20260419T223329
CREATED:20241125T062803Z
LAST-MODIFIED:20241221T044407Z
UID:10003774-1800008100-1800010800@www.thechick.health
SUMMARY:Chair Yoga
DESCRIPTION:Join me on Fridays from 10:15 – 11:00 for a chair yoga session designed to give you all the benefits of yoga without the need to get on the floor\, have special equipment or break a sweat! \n15 East Main Street\, Suite 109 Westminster\, MD. in the Winchester Exchange Building
URL:https://www.thechick.health/event/chair-yoga/2027-01-15/
ORGANIZER;CN="The Chick":MAILTO:brooke@thechick.health
END:VEVENT
BEGIN:VEVENT
DTSTART;TZID=UTC:20270117T083000
DTEND;TZID=UTC:20270117T093000
DTSTAMP:20260419T223329
CREATED:20241112T020931Z
LAST-MODIFIED:20241202T075126Z
UID:10000380-1800174600-1800178200@www.thechick.health
SUMMARY:Sunday Morning Vinyasa Flow
DESCRIPTION:An energetic Sunday morning flow designed to work on mindfulness\, asana work\, breath work and connection.
URL:https://www.thechick.health/event/sunday-morning-vinyasa-flow/2027-01-17/
LOCATION:Inspired by Yoga\, 4500 Black Rock Road\, Hampstead\, MD\, 21074\, United States
END:VEVENT
BEGIN:VEVENT
DTSTART;TZID=America/New_York:20270117T100000
DTEND;TZID=America/New_York:20270117T111500
DTSTAMP:20260419T223329
CREATED:20241125T052319Z
LAST-MODIFIED:20241202T194012Z
UID:10003251-1800180000-1800184500@www.thechick.health
SUMMARY:Sunday Morning Yin
DESCRIPTION:An extra long 75 minute delicious Yin practice!  Release the mind\, body and spirit every Sunday\, making your Mondays awesome!
URL:https://www.thechick.health/event/sunday-morning-yin/2027-01-17/
LOCATION:Inspired by Yoga\, 4500 Black Rock Road\, Hampstead\, MD\, 21074\, United States
END:VEVENT
BEGIN:VEVENT
DTSTART;TZID=UTC:20270119T091500
DTEND;TZID=UTC:20270119T101500
DTSTAMP:20260419T223329
CREATED:20241125T053230Z
LAST-MODIFIED:20241127T233817Z
UID:10002727-1800350100-1800353700@www.thechick.health
SUMMARY:Lengthen to Strengthen
DESCRIPTION:Combining Yin\, Hatha and Vinyasa this class takes place in a warm\, not hot room.  The release of fascia\, the opening of the mind and spirit sprinkled with yogic philosophy will have you feeling 10 feet tall and ready to take on all that the outside world has to offer.  Lighten your day with this full body workout and leave with a smile on your face!
URL:https://www.thechick.health/event/lengthen-to-strengthen/2027-01-19/
LOCATION:Inspired by Yoga\, 4500 Black Rock Road\, Hampstead\, MD\, 21074\, United States
END:VEVENT
BEGIN:VEVENT
DTSTART;TZID=UTC:20270120T113000
DTEND;TZID=UTC:20270120T170000
DTSTAMP:20260419T223329
CREATED:20241207T015758Z
LAST-MODIFIED:20241207T015758Z
UID:10006645-1800444600-1800464400@www.thechick.health
SUMMARY:Office Hours
DESCRIPTION:Stop by my office at 15 East Main Street\, Suite 109 in beautiful Downtown Westminster\, Maryland.  Specifically\, the Winchester Exchange Building. \nIf my door is open\, you are always welcome!  Please\, if the door is closed\, knock first before entering. \nA calm and serene location to begin or continue your journey in wellness.
URL:https://www.thechick.health/event/office-hours/2027-01-20/
END:VEVENT
BEGIN:VEVENT
DTSTART;TZID=America/New_York:20270122T101500
DTEND;TZID=America/New_York:20270122T110000
DTSTAMP:20260419T223329
CREATED:20241125T062803Z
LAST-MODIFIED:20241221T044407Z
UID:10003775-1800612900-1800615600@www.thechick.health
SUMMARY:Chair Yoga
DESCRIPTION:Join me on Fridays from 10:15 – 11:00 for a chair yoga session designed to give you all the benefits of yoga without the need to get on the floor\, have special equipment or break a sweat! \n15 East Main Street\, Suite 109 Westminster\, MD. in the Winchester Exchange Building
URL:https://www.thechick.health/event/chair-yoga/2027-01-22/
ORGANIZER;CN="The Chick":MAILTO:brooke@thechick.health
END:VEVENT
BEGIN:VEVENT
DTSTART;TZID=UTC:20270124T083000
DTEND;TZID=UTC:20270124T093000
DTSTAMP:20260419T223329
CREATED:20241112T020931Z
LAST-MODIFIED:20241202T075126Z
UID:10000381-1800779400-1800783000@www.thechick.health
SUMMARY:Sunday Morning Vinyasa Flow
DESCRIPTION:An energetic Sunday morning flow designed to work on mindfulness\, asana work\, breath work and connection.
URL:https://www.thechick.health/event/sunday-morning-vinyasa-flow/2027-01-24/
LOCATION:Inspired by Yoga\, 4500 Black Rock Road\, Hampstead\, MD\, 21074\, United States
END:VEVENT
BEGIN:VEVENT
DTSTART;TZID=America/New_York:20270124T100000
DTEND;TZID=America/New_York:20270124T111500
DTSTAMP:20260419T223329
CREATED:20241125T052319Z
LAST-MODIFIED:20241202T194012Z
UID:10003252-1800784800-1800789300@www.thechick.health
SUMMARY:Sunday Morning Yin
DESCRIPTION:An extra long 75 minute delicious Yin practice!  Release the mind\, body and spirit every Sunday\, making your Mondays awesome!
URL:https://www.thechick.health/event/sunday-morning-yin/2027-01-24/
LOCATION:Inspired by Yoga\, 4500 Black Rock Road\, Hampstead\, MD\, 21074\, United States
END:VEVENT
BEGIN:VEVENT
DTSTART;TZID=UTC:20270126T091500
DTEND;TZID=UTC:20270126T101500
DTSTAMP:20260419T223329
CREATED:20241125T053230Z
LAST-MODIFIED:20241127T233817Z
UID:10002728-1800954900-1800958500@www.thechick.health
SUMMARY:Lengthen to Strengthen
DESCRIPTION:Combining Yin\, Hatha and Vinyasa this class takes place in a warm\, not hot room.  The release of fascia\, the opening of the mind and spirit sprinkled with yogic philosophy will have you feeling 10 feet tall and ready to take on all that the outside world has to offer.  Lighten your day with this full body workout and leave with a smile on your face!
URL:https://www.thechick.health/event/lengthen-to-strengthen/2027-01-26/
LOCATION:Inspired by Yoga\, 4500 Black Rock Road\, Hampstead\, MD\, 21074\, United States
END:VEVENT
BEGIN:VEVENT
DTSTART;TZID=UTC:20270127T113000
DTEND;TZID=UTC:20270127T170000
DTSTAMP:20260419T223329
CREATED:20241207T015758Z
LAST-MODIFIED:20241207T015758Z
UID:10006646-1801049400-1801069200@www.thechick.health
SUMMARY:Office Hours
DESCRIPTION:Stop by my office at 15 East Main Street\, Suite 109 in beautiful Downtown Westminster\, Maryland.  Specifically\, the Winchester Exchange Building. \nIf my door is open\, you are always welcome!  Please\, if the door is closed\, knock first before entering. \nA calm and serene location to begin or continue your journey in wellness.
URL:https://www.thechick.health/event/office-hours/2027-01-27/
END:VEVENT
BEGIN:VEVENT
DTSTART;TZID=America/New_York:20270129T101500
DTEND;TZID=America/New_York:20270129T110000
DTSTAMP:20260419T223329
CREATED:20241125T062803Z
LAST-MODIFIED:20241221T044407Z
UID:10003776-1801217700-1801220400@www.thechick.health
SUMMARY:Chair Yoga
DESCRIPTION:Join me on Fridays from 10:15 – 11:00 for a chair yoga session designed to give you all the benefits of yoga without the need to get on the floor\, have special equipment or break a sweat! \n15 East Main Street\, Suite 109 Westminster\, MD. in the Winchester Exchange Building
URL:https://www.thechick.health/event/chair-yoga/2027-01-29/
ORGANIZER;CN="The Chick":MAILTO:brooke@thechick.health
END:VEVENT
BEGIN:VEVENT
DTSTART;TZID=UTC:20270131T083000
DTEND;TZID=UTC:20270131T093000
DTSTAMP:20260419T223329
CREATED:20241112T020931Z
LAST-MODIFIED:20241202T075126Z
UID:10000382-1801384200-1801387800@www.thechick.health
SUMMARY:Sunday Morning Vinyasa Flow
DESCRIPTION:An energetic Sunday morning flow designed to work on mindfulness\, asana work\, breath work and connection.
URL:https://www.thechick.health/event/sunday-morning-vinyasa-flow/2027-01-31/
LOCATION:Inspired by Yoga\, 4500 Black Rock Road\, Hampstead\, MD\, 21074\, United States
END:VEVENT
BEGIN:VEVENT
DTSTART;TZID=America/New_York:20270131T100000
DTEND;TZID=America/New_York:20270131T111500
DTSTAMP:20260419T223329
CREATED:20241125T052319Z
LAST-MODIFIED:20241202T194012Z
UID:10003253-1801389600-1801394100@www.thechick.health
SUMMARY:Sunday Morning Yin
DESCRIPTION:An extra long 75 minute delicious Yin practice!  Release the mind\, body and spirit every Sunday\, making your Mondays awesome!
URL:https://www.thechick.health/event/sunday-morning-yin/2027-01-31/
LOCATION:Inspired by Yoga\, 4500 Black Rock Road\, Hampstead\, MD\, 21074\, United States
END:VEVENT
BEGIN:VEVENT
DTSTART;TZID=UTC:20270202T091500
DTEND;TZID=UTC:20270202T101500
DTSTAMP:20260419T223329
CREATED:20241125T053230Z
LAST-MODIFIED:20241127T233817Z
UID:10002729-1801559700-1801563300@www.thechick.health
SUMMARY:Lengthen to Strengthen
DESCRIPTION:Combining Yin\, Hatha and Vinyasa this class takes place in a warm\, not hot room.  The release of fascia\, the opening of the mind and spirit sprinkled with yogic philosophy will have you feeling 10 feet tall and ready to take on all that the outside world has to offer.  Lighten your day with this full body workout and leave with a smile on your face!
URL:https://www.thechick.health/event/lengthen-to-strengthen/2027-02-02/
LOCATION:Inspired by Yoga\, 4500 Black Rock Road\, Hampstead\, MD\, 21074\, United States
END:VEVENT
BEGIN:VEVENT
DTSTART;TZID=UTC:20270203T113000
DTEND;TZID=UTC:20270203T170000
DTSTAMP:20260419T223329
CREATED:20241207T015758Z
LAST-MODIFIED:20241207T015758Z
UID:10006647-1801654200-1801674000@www.thechick.health
SUMMARY:Office Hours
DESCRIPTION:Stop by my office at 15 East Main Street\, Suite 109 in beautiful Downtown Westminster\, Maryland.  Specifically\, the Winchester Exchange Building. \nIf my door is open\, you are always welcome!  Please\, if the door is closed\, knock first before entering. \nA calm and serene location to begin or continue your journey in wellness.
URL:https://www.thechick.health/event/office-hours/2027-02-03/
END:VEVENT
BEGIN:VEVENT
DTSTART;TZID=America/New_York:20270205T101500
DTEND;TZID=America/New_York:20270205T110000
DTSTAMP:20260419T223329
CREATED:20241125T062803Z
LAST-MODIFIED:20241221T044407Z
UID:10003777-1801822500-1801825200@www.thechick.health
SUMMARY:Chair Yoga
DESCRIPTION:Join me on Fridays from 10:15 – 11:00 for a chair yoga session designed to give you all the benefits of yoga without the need to get on the floor\, have special equipment or break a sweat! \n15 East Main Street\, Suite 109 Westminster\, MD. in the Winchester Exchange Building
URL:https://www.thechick.health/event/chair-yoga/2027-02-05/
ORGANIZER;CN="The Chick":MAILTO:brooke@thechick.health
END:VEVENT
BEGIN:VEVENT
DTSTART;TZID=UTC:20270207T083000
DTEND;TZID=UTC:20270207T093000
DTSTAMP:20260419T223329
CREATED:20241112T020931Z
LAST-MODIFIED:20241202T075126Z
UID:10000383-1801989000-1801992600@www.thechick.health
SUMMARY:Sunday Morning Vinyasa Flow
DESCRIPTION:An energetic Sunday morning flow designed to work on mindfulness\, asana work\, breath work and connection.
URL:https://www.thechick.health/event/sunday-morning-vinyasa-flow/2027-02-07/
LOCATION:Inspired by Yoga\, 4500 Black Rock Road\, Hampstead\, MD\, 21074\, United States
END:VEVENT
BEGIN:VEVENT
DTSTART;TZID=America/New_York:20270207T100000
DTEND;TZID=America/New_York:20270207T111500
DTSTAMP:20260419T223329
CREATED:20241125T052319Z
LAST-MODIFIED:20241202T194012Z
UID:10003254-1801994400-1801998900@www.thechick.health
SUMMARY:Sunday Morning Yin
DESCRIPTION:An extra long 75 minute delicious Yin practice!  Release the mind\, body and spirit every Sunday\, making your Mondays awesome!
URL:https://www.thechick.health/event/sunday-morning-yin/2027-02-07/
LOCATION:Inspired by Yoga\, 4500 Black Rock Road\, Hampstead\, MD\, 21074\, United States
END:VEVENT
BEGIN:VEVENT
DTSTART;TZID=UTC:20270209T091500
DTEND;TZID=UTC:20270209T101500
DTSTAMP:20260419T223329
CREATED:20241125T053230Z
LAST-MODIFIED:20241127T233817Z
UID:10002730-1802164500-1802168100@www.thechick.health
SUMMARY:Lengthen to Strengthen
DESCRIPTION:Combining Yin\, Hatha and Vinyasa this class takes place in a warm\, not hot room.  The release of fascia\, the opening of the mind and spirit sprinkled with yogic philosophy will have you feeling 10 feet tall and ready to take on all that the outside world has to offer.  Lighten your day with this full body workout and leave with a smile on your face!
URL:https://www.thechick.health/event/lengthen-to-strengthen/2027-02-09/
LOCATION:Inspired by Yoga\, 4500 Black Rock Road\, Hampstead\, MD\, 21074\, United States
END:VEVENT
BEGIN:VEVENT
DTSTART;TZID=UTC:20270210T113000
DTEND;TZID=UTC:20270210T170000
DTSTAMP:20260419T223329
CREATED:20241207T015758Z
LAST-MODIFIED:20241207T015758Z
UID:10006648-1802259000-1802278800@www.thechick.health
SUMMARY:Office Hours
DESCRIPTION:Stop by my office at 15 East Main Street\, Suite 109 in beautiful Downtown Westminster\, Maryland.  Specifically\, the Winchester Exchange Building. \nIf my door is open\, you are always welcome!  Please\, if the door is closed\, knock first before entering. \nA calm and serene location to begin or continue your journey in wellness.
URL:https://www.thechick.health/event/office-hours/2027-02-10/
END:VEVENT
BEGIN:VEVENT
DTSTART;TZID=America/New_York:20270212T101500
DTEND;TZID=America/New_York:20270212T110000
DTSTAMP:20260419T223329
CREATED:20241125T062803Z
LAST-MODIFIED:20241221T044407Z
UID:10003778-1802427300-1802430000@www.thechick.health
SUMMARY:Chair Yoga
DESCRIPTION:Join me on Fridays from 10:15 – 11:00 for a chair yoga session designed to give you all the benefits of yoga without the need to get on the floor\, have special equipment or break a sweat! \n15 East Main Street\, Suite 109 Westminster\, MD. in the Winchester Exchange Building
URL:https://www.thechick.health/event/chair-yoga/2027-02-12/
ORGANIZER;CN="The Chick":MAILTO:brooke@thechick.health
END:VEVENT
BEGIN:VEVENT
DTSTART;TZID=UTC:20270214T083000
DTEND;TZID=UTC:20270214T093000
DTSTAMP:20260419T223329
CREATED:20241112T020931Z
LAST-MODIFIED:20241202T075126Z
UID:10000384-1802593800-1802597400@www.thechick.health
SUMMARY:Sunday Morning Vinyasa Flow
DESCRIPTION:An energetic Sunday morning flow designed to work on mindfulness\, asana work\, breath work and connection.
URL:https://www.thechick.health/event/sunday-morning-vinyasa-flow/2027-02-14/
LOCATION:Inspired by Yoga\, 4500 Black Rock Road\, Hampstead\, MD\, 21074\, United States
END:VEVENT
BEGIN:VEVENT
DTSTART;TZID=America/New_York:20270214T100000
DTEND;TZID=America/New_York:20270214T111500
DTSTAMP:20260419T223329
CREATED:20241125T052319Z
LAST-MODIFIED:20241202T194012Z
UID:10003255-1802599200-1802603700@www.thechick.health
SUMMARY:Sunday Morning Yin
DESCRIPTION:An extra long 75 minute delicious Yin practice!  Release the mind\, body and spirit every Sunday\, making your Mondays awesome!
URL:https://www.thechick.health/event/sunday-morning-yin/2027-02-14/
LOCATION:Inspired by Yoga\, 4500 Black Rock Road\, Hampstead\, MD\, 21074\, United States
END:VEVENT
BEGIN:VEVENT
DTSTART;TZID=UTC:20270216T091500
DTEND;TZID=UTC:20270216T101500
DTSTAMP:20260419T223329
CREATED:20241125T053230Z
LAST-MODIFIED:20241127T233817Z
UID:10002731-1802769300-1802772900@www.thechick.health
SUMMARY:Lengthen to Strengthen
DESCRIPTION:Combining Yin\, Hatha and Vinyasa this class takes place in a warm\, not hot room.  The release of fascia\, the opening of the mind and spirit sprinkled with yogic philosophy will have you feeling 10 feet tall and ready to take on all that the outside world has to offer.  Lighten your day with this full body workout and leave with a smile on your face!
URL:https://www.thechick.health/event/lengthen-to-strengthen/2027-02-16/
LOCATION:Inspired by Yoga\, 4500 Black Rock Road\, Hampstead\, MD\, 21074\, United States
END:VEVENT
BEGIN:VEVENT
DTSTART;TZID=UTC:20270217T113000
DTEND;TZID=UTC:20270217T170000
DTSTAMP:20260419T223329
CREATED:20241207T015758Z
LAST-MODIFIED:20241207T015758Z
UID:10006649-1802863800-1802883600@www.thechick.health
SUMMARY:Office Hours
DESCRIPTION:Stop by my office at 15 East Main Street\, Suite 109 in beautiful Downtown Westminster\, Maryland.  Specifically\, the Winchester Exchange Building. \nIf my door is open\, you are always welcome!  Please\, if the door is closed\, knock first before entering. \nA calm and serene location to begin or continue your journey in wellness.
URL:https://www.thechick.health/event/office-hours/2027-02-17/
END:VEVENT
END:VCALENDAR