BEGIN:VCALENDAR
VERSION:2.0
PRODID:-//The Chick - ECPv6.15.20//NONSGML v1.0//EN
CALSCALE:GREGORIAN
METHOD:PUBLISH
X-WR-CALNAME:The Chick
X-ORIGINAL-URL:https://www.thechick.health
X-WR-CALDESC:Events for The Chick
REFRESH-INTERVAL;VALUE=DURATION:PT1H
X-Robots-Tag:noindex
X-PUBLISHED-TTL:PT1H
BEGIN:VTIMEZONE
TZID:America/New_York
BEGIN:DAYLIGHT
TZOFFSETFROM:-0500
TZOFFSETTO:-0400
TZNAME:EDT
DTSTART:20230312T070000
END:DAYLIGHT
BEGIN:STANDARD
TZOFFSETFROM:-0400
TZOFFSETTO:-0500
TZNAME:EST
DTSTART:20231105T060000
END:STANDARD
BEGIN:DAYLIGHT
TZOFFSETFROM:-0500
TZOFFSETTO:-0400
TZNAME:EDT
DTSTART:20240310T070000
END:DAYLIGHT
BEGIN:STANDARD
TZOFFSETFROM:-0400
TZOFFSETTO:-0500
TZNAME:EST
DTSTART:20241103T060000
END:STANDARD
BEGIN:DAYLIGHT
TZOFFSETFROM:-0500
TZOFFSETTO:-0400
TZNAME:EDT
DTSTART:20250309T070000
END:DAYLIGHT
BEGIN:STANDARD
TZOFFSETFROM:-0400
TZOFFSETTO:-0500
TZNAME:EST
DTSTART:20251102T060000
END:STANDARD
END:VTIMEZONE
BEGIN:VTIMEZONE
TZID:UTC
BEGIN:STANDARD
TZOFFSETFROM:+0000
TZOFFSETTO:+0000
TZNAME:UTC
DTSTART:20230101T000000
END:STANDARD
END:VTIMEZONE
BEGIN:VEVENT
DTSTART;TZID=America/New_York:20241211T080000
DTEND;TZID=America/New_York:20241211T090000
DTSTAMP:20260421T050559
CREATED:20241203T053550Z
LAST-MODIFIED:20241204T010814Z
UID:10006016-1733904000-1733907600@www.thechick.health
SUMMARY:Yin Yoga
DESCRIPTION:Join me on Wednesday mornings from 8:00 to 9:00 a.m. at Downtown Yoga\, Barre\, and Cycle in beautiful Downtown Westminster\, MD. This 60-minute class will leave you refreshed\, open\, and ready to take on your momentum-based life\, both on and off the mat!
URL:https://www.thechick.health/event/yin-yoga/2024-12-11/
LOCATION:Downtown Yoga\, Barre & Cycle\, 13 Liberty Street\, Westminster\, 21157\, United States
END:VEVENT
BEGIN:VEVENT
DTSTART;TZID=UTC:20241210T091500
DTEND;TZID=UTC:20241210T101500
DTSTAMP:20260421T050559
CREATED:20241125T053230Z
LAST-MODIFIED:20241127T233817Z
UID:10002617-1733822100-1733825700@www.thechick.health
SUMMARY:Lengthen to Strengthen
DESCRIPTION:Combining Yin\, Hatha and Vinyasa this class takes place in a warm\, not hot room.  The release of fascia\, the opening of the mind and spirit sprinkled with yogic philosophy will have you feeling 10 feet tall and ready to take on all that the outside world has to offer.  Lighten your day with this full body workout and leave with a smile on your face!
URL:https://www.thechick.health/event/lengthen-to-strengthen/2024-12-10/
LOCATION:Inspired by Yoga\, 4500 Black Rock Road\, Hampstead\, MD\, 21074\, United States
END:VEVENT
BEGIN:VEVENT
DTSTART;TZID=America/New_York:20241208T100000
DTEND;TZID=America/New_York:20241208T111500
DTSTAMP:20260421T050559
CREATED:20241125T052319Z
LAST-MODIFIED:20241202T194012Z
UID:10003141-1733652000-1733656500@www.thechick.health
SUMMARY:Sunday Morning Yin
DESCRIPTION:An extra long 75 minute delicious Yin practice!  Release the mind\, body and spirit every Sunday\, making your Mondays awesome!
URL:https://www.thechick.health/event/sunday-morning-yin/2024-12-08/
LOCATION:Inspired by Yoga\, 4500 Black Rock Road\, Hampstead\, MD\, 21074\, United States
END:VEVENT
BEGIN:VEVENT
DTSTART;TZID=UTC:20241208T083000
DTEND;TZID=UTC:20241208T093000
DTSTAMP:20260421T050559
CREATED:20241112T020931Z
LAST-MODIFIED:20241202T075126Z
UID:10000270-1733646600-1733650200@www.thechick.health
SUMMARY:Sunday Morning Vinyasa Flow
DESCRIPTION:An energetic Sunday morning flow designed to work on mindfulness\, asana work\, breath work and connection.
URL:https://www.thechick.health/event/sunday-morning-vinyasa-flow/2024-12-08/
LOCATION:Inspired by Yoga\, 4500 Black Rock Road\, Hampstead\, MD\, 21074\, United States
END:VEVENT
BEGIN:VEVENT
DTSTART;TZID=UTC:20241207T090000
DTEND;TZID=UTC:20241207T140000
DTSTAMP:20260421T050559
CREATED:20241125T062415Z
LAST-MODIFIED:20241125T062423Z
UID:10000009-1733562000-1733580000@www.thechick.health
SUMMARY:Find Your Peace on Earth Holiday Experience
DESCRIPTION:
URL:https://www.thechick.health/event/find-your-peace-on-earth-holiday-experience/
END:VEVENT
BEGIN:VEVENT
DTSTART;TZID=America/New_York:20241206T101500
DTEND;TZID=America/New_York:20241206T110000
DTSTAMP:20260421T050559
CREATED:20241125T062803Z
LAST-MODIFIED:20241221T044407Z
UID:10003664-1733480100-1733482800@www.thechick.health
SUMMARY:Chair Yoga
DESCRIPTION:Join me on Fridays from 10:15 – 11:00 for a chair yoga session designed to give you all the benefits of yoga without the need to get on the floor\, have special equipment or break a sweat! \n15 East Main Street\, Suite 109 Westminster\, MD. in the Winchester Exchange Building
URL:https://www.thechick.health/event/chair-yoga/2024-12-06/
ORGANIZER;CN="The Chick":MAILTO:brooke@thechick.health
END:VEVENT
BEGIN:VEVENT
DTSTART;TZID=America/New_York:20241204T080000
DTEND;TZID=America/New_York:20241204T090000
DTSTAMP:20260421T050559
CREATED:20241203T053550Z
LAST-MODIFIED:20241204T010814Z
UID:10006015-1733299200-1733302800@www.thechick.health
SUMMARY:Yin Yoga
DESCRIPTION:Join me on Wednesday mornings from 8:00 to 9:00 a.m. at Downtown Yoga\, Barre\, and Cycle in beautiful Downtown Westminster\, MD. This 60-minute class will leave you refreshed\, open\, and ready to take on your momentum-based life\, both on and off the mat!
URL:https://www.thechick.health/event/yin-yoga/2024-12-04/
LOCATION:Downtown Yoga\, Barre & Cycle\, 13 Liberty Street\, Westminster\, 21157\, United States
END:VEVENT
BEGIN:VEVENT
DTSTART;TZID=UTC:20241203T091500
DTEND;TZID=UTC:20241203T101500
DTSTAMP:20260421T050559
CREATED:20241125T053230Z
LAST-MODIFIED:20241127T233817Z
UID:10002616-1733217300-1733220900@www.thechick.health
SUMMARY:Lengthen to Strengthen
DESCRIPTION:Combining Yin\, Hatha and Vinyasa this class takes place in a warm\, not hot room.  The release of fascia\, the opening of the mind and spirit sprinkled with yogic philosophy will have you feeling 10 feet tall and ready to take on all that the outside world has to offer.  Lighten your day with this full body workout and leave with a smile on your face!
URL:https://www.thechick.health/event/lengthen-to-strengthen/2024-12-03/
LOCATION:Inspired by Yoga\, 4500 Black Rock Road\, Hampstead\, MD\, 21074\, United States
END:VEVENT
BEGIN:VEVENT
DTSTART;TZID=America/New_York:20241201T100000
DTEND;TZID=America/New_York:20241201T111500
DTSTAMP:20260421T050559
CREATED:20241125T052319Z
LAST-MODIFIED:20241202T194012Z
UID:10003140-1733047200-1733051700@www.thechick.health
SUMMARY:Sunday Morning Yin
DESCRIPTION:An extra long 75 minute delicious Yin practice!  Release the mind\, body and spirit every Sunday\, making your Mondays awesome!
URL:https://www.thechick.health/event/sunday-morning-yin/2024-12-01/
LOCATION:Inspired by Yoga\, 4500 Black Rock Road\, Hampstead\, MD\, 21074\, United States
END:VEVENT
BEGIN:VEVENT
DTSTART;TZID=UTC:20241201T083000
DTEND;TZID=UTC:20241201T093000
DTSTAMP:20260421T050559
CREATED:20241112T020931Z
LAST-MODIFIED:20241202T075126Z
UID:10000002-1733041800-1733045400@www.thechick.health
SUMMARY:Sunday Morning Vinyasa Flow
DESCRIPTION:An energetic Sunday morning flow designed to work on mindfulness\, asana work\, breath work and connection.
URL:https://www.thechick.health/event/sunday-morning-vinyasa-flow/2024-12-01/
LOCATION:Inspired by Yoga\, 4500 Black Rock Road\, Hampstead\, MD\, 21074\, United States
END:VEVENT
BEGIN:VEVENT
DTSTART;TZID=America/New_York:20241129T101500
DTEND;TZID=America/New_York:20241129T110000
DTSTAMP:20260421T050559
CREATED:20241125T062803Z
LAST-MODIFIED:20241221T044407Z
UID:10003663-1732875300-1732878000@www.thechick.health
SUMMARY:Chair Yoga
DESCRIPTION:Join me on Fridays from 10:15 – 11:00 for a chair yoga session designed to give you all the benefits of yoga without the need to get on the floor\, have special equipment or break a sweat! \n15 East Main Street\, Suite 109 Westminster\, MD. in the Winchester Exchange Building
URL:https://www.thechick.health/event/chair-yoga/2024-11-29/
ORGANIZER;CN="The Chick":MAILTO:brooke@thechick.health
END:VEVENT
BEGIN:VEVENT
DTSTART;TZID=UTC:20241126T091500
DTEND;TZID=UTC:20241126T101500
DTSTAMP:20260421T050559
CREATED:20241125T053230Z
LAST-MODIFIED:20241127T233817Z
UID:10000008-1732612500-1732616100@www.thechick.health
SUMMARY:Lengthen to Strengthen
DESCRIPTION:Combining Yin\, Hatha and Vinyasa this class takes place in a warm\, not hot room.  The release of fascia\, the opening of the mind and spirit sprinkled with yogic philosophy will have you feeling 10 feet tall and ready to take on all that the outside world has to offer.  Lighten your day with this full body workout and leave with a smile on your face!
URL:https://www.thechick.health/event/lengthen-to-strengthen/2024-11-26/
LOCATION:Inspired by Yoga\, 4500 Black Rock Road\, Hampstead\, MD\, 21074\, United States
END:VEVENT
END:VCALENDAR