BEGIN:VCALENDAR
VERSION:2.0
PRODID:-//The Chick - ECPv6.15.20//NONSGML v1.0//EN
CALSCALE:GREGORIAN
METHOD:PUBLISH
X-ORIGINAL-URL:https://www.thechick.health
X-WR-CALDESC:Events for The Chick
REFRESH-INTERVAL;VALUE=DURATION:PT1H
X-Robots-Tag:noindex
X-PUBLISHED-TTL:PT1H
BEGIN:VTIMEZONE
TZID:America/New_York
BEGIN:DAYLIGHT
TZOFFSETFROM:-0500
TZOFFSETTO:-0400
TZNAME:EDT
DTSTART:20270314T070000
END:DAYLIGHT
BEGIN:STANDARD
TZOFFSETFROM:-0400
TZOFFSETTO:-0500
TZNAME:EST
DTSTART:20271107T060000
END:STANDARD
BEGIN:DAYLIGHT
TZOFFSETFROM:-0500
TZOFFSETTO:-0400
TZNAME:EDT
DTSTART:20280312T070000
END:DAYLIGHT
BEGIN:STANDARD
TZOFFSETFROM:-0400
TZOFFSETTO:-0500
TZNAME:EST
DTSTART:20281105T060000
END:STANDARD
BEGIN:DAYLIGHT
TZOFFSETFROM:-0500
TZOFFSETTO:-0400
TZNAME:EDT
DTSTART:20290311T070000
END:DAYLIGHT
BEGIN:STANDARD
TZOFFSETFROM:-0400
TZOFFSETTO:-0500
TZNAME:EST
DTSTART:20291104T060000
END:STANDARD
END:VTIMEZONE
BEGIN:VTIMEZONE
TZID:UTC
BEGIN:STANDARD
TZOFFSETFROM:+0000
TZOFFSETTO:+0000
TZNAME:UTC
DTSTART:20270101T000000
END:STANDARD
END:VTIMEZONE
BEGIN:VEVENT
DTSTART;TZID=America/New_York:20281001T100000
DTEND;TZID=America/New_York:20281001T111500
DTSTAMP:20260420T235245
CREATED:20241125T052319Z
LAST-MODIFIED:20241202T194012Z
UID:10003340-1854007200-1854011700@www.thechick.health
SUMMARY:Sunday Morning Yin
DESCRIPTION:An extra long 75 minute delicious Yin practice!  Release the mind\, body and spirit every Sunday\, making your Mondays awesome!
URL:https://www.thechick.health/event/sunday-morning-yin/2028-10-01/
LOCATION:Inspired by Yoga\, 4500 Black Rock Road\, Hampstead\, MD\, 21074\, United States
END:VEVENT
BEGIN:VEVENT
DTSTART;TZID=UTC:20281003T091500
DTEND;TZID=UTC:20281003T101500
DTSTAMP:20260420T235245
CREATED:20241125T053230Z
LAST-MODIFIED:20241127T233817Z
UID:10002816-1854177300-1854180900@www.thechick.health
SUMMARY:Lengthen to Strengthen
DESCRIPTION:Combining Yin\, Hatha and Vinyasa this class takes place in a warm\, not hot room.  The release of fascia\, the opening of the mind and spirit sprinkled with yogic philosophy will have you feeling 10 feet tall and ready to take on all that the outside world has to offer.  Lighten your day with this full body workout and leave with a smile on your face!
URL:https://www.thechick.health/event/lengthen-to-strengthen/2028-10-03/
LOCATION:Inspired by Yoga\, 4500 Black Rock Road\, Hampstead\, MD\, 21074\, United States
END:VEVENT
BEGIN:VEVENT
DTSTART;TZID=UTC:20281004T113000
DTEND;TZID=UTC:20281004T170000
DTSTAMP:20260420T235245
CREATED:20241207T015758Z
LAST-MODIFIED:20241207T015758Z
UID:10006734-1854271800-1854291600@www.thechick.health
SUMMARY:Office Hours
DESCRIPTION:Stop by my office at 15 East Main Street\, Suite 109 in beautiful Downtown Westminster\, Maryland.  Specifically\, the Winchester Exchange Building. \nIf my door is open\, you are always welcome!  Please\, if the door is closed\, knock first before entering. \nA calm and serene location to begin or continue your journey in wellness.
URL:https://www.thechick.health/event/office-hours/2028-10-04/
END:VEVENT
BEGIN:VEVENT
DTSTART;TZID=America/New_York:20281006T101500
DTEND;TZID=America/New_York:20281006T110000
DTSTAMP:20260420T235245
CREATED:20241125T062803Z
LAST-MODIFIED:20241221T044407Z
UID:10003864-1854440100-1854442800@www.thechick.health
SUMMARY:Chair Yoga
DESCRIPTION:Join me on Fridays from 10:15 – 11:00 for a chair yoga session designed to give you all the benefits of yoga without the need to get on the floor\, have special equipment or break a sweat! \n15 East Main Street\, Suite 109 Westminster\, MD. in the Winchester Exchange Building
URL:https://www.thechick.health/event/chair-yoga/2028-10-06/
ORGANIZER;CN="The Chick":MAILTO:brooke@thechick.health
END:VEVENT
BEGIN:VEVENT
DTSTART;TZID=UTC:20281008T083000
DTEND;TZID=UTC:20281008T093000
DTSTAMP:20260420T235245
CREATED:20241112T020931Z
LAST-MODIFIED:20241202T075126Z
UID:10000470-1854606600-1854610200@www.thechick.health
SUMMARY:Sunday Morning Vinyasa Flow
DESCRIPTION:An energetic Sunday morning flow designed to work on mindfulness\, asana work\, breath work and connection.
URL:https://www.thechick.health/event/sunday-morning-vinyasa-flow/2028-10-08/
LOCATION:Inspired by Yoga\, 4500 Black Rock Road\, Hampstead\, MD\, 21074\, United States
END:VEVENT
BEGIN:VEVENT
DTSTART;TZID=America/New_York:20281008T100000
DTEND;TZID=America/New_York:20281008T111500
DTSTAMP:20260420T235245
CREATED:20241125T052319Z
LAST-MODIFIED:20241202T194012Z
UID:10003341-1854612000-1854616500@www.thechick.health
SUMMARY:Sunday Morning Yin
DESCRIPTION:An extra long 75 minute delicious Yin practice!  Release the mind\, body and spirit every Sunday\, making your Mondays awesome!
URL:https://www.thechick.health/event/sunday-morning-yin/2028-10-08/
LOCATION:Inspired by Yoga\, 4500 Black Rock Road\, Hampstead\, MD\, 21074\, United States
END:VEVENT
BEGIN:VEVENT
DTSTART;TZID=UTC:20281010T091500
DTEND;TZID=UTC:20281010T101500
DTSTAMP:20260420T235245
CREATED:20241125T053230Z
LAST-MODIFIED:20241127T233817Z
UID:10002817-1854782100-1854785700@www.thechick.health
SUMMARY:Lengthen to Strengthen
DESCRIPTION:Combining Yin\, Hatha and Vinyasa this class takes place in a warm\, not hot room.  The release of fascia\, the opening of the mind and spirit sprinkled with yogic philosophy will have you feeling 10 feet tall and ready to take on all that the outside world has to offer.  Lighten your day with this full body workout and leave with a smile on your face!
URL:https://www.thechick.health/event/lengthen-to-strengthen/2028-10-10/
LOCATION:Inspired by Yoga\, 4500 Black Rock Road\, Hampstead\, MD\, 21074\, United States
END:VEVENT
BEGIN:VEVENT
DTSTART;TZID=UTC:20281011T113000
DTEND;TZID=UTC:20281011T170000
DTSTAMP:20260420T235245
CREATED:20241207T015758Z
LAST-MODIFIED:20241207T015758Z
UID:10006735-1854876600-1854896400@www.thechick.health
SUMMARY:Office Hours
DESCRIPTION:Stop by my office at 15 East Main Street\, Suite 109 in beautiful Downtown Westminster\, Maryland.  Specifically\, the Winchester Exchange Building. \nIf my door is open\, you are always welcome!  Please\, if the door is closed\, knock first before entering. \nA calm and serene location to begin or continue your journey in wellness.
URL:https://www.thechick.health/event/office-hours/2028-10-11/
END:VEVENT
BEGIN:VEVENT
DTSTART;TZID=America/New_York:20281013T101500
DTEND;TZID=America/New_York:20281013T110000
DTSTAMP:20260420T235245
CREATED:20241125T062803Z
LAST-MODIFIED:20241221T044407Z
UID:10003865-1855044900-1855047600@www.thechick.health
SUMMARY:Chair Yoga
DESCRIPTION:Join me on Fridays from 10:15 – 11:00 for a chair yoga session designed to give you all the benefits of yoga without the need to get on the floor\, have special equipment or break a sweat! \n15 East Main Street\, Suite 109 Westminster\, MD. in the Winchester Exchange Building
URL:https://www.thechick.health/event/chair-yoga/2028-10-13/
ORGANIZER;CN="The Chick":MAILTO:brooke@thechick.health
END:VEVENT
BEGIN:VEVENT
DTSTART;TZID=UTC:20281015T083000
DTEND;TZID=UTC:20281015T093000
DTSTAMP:20260420T235245
CREATED:20241112T020931Z
LAST-MODIFIED:20241202T075126Z
UID:10000471-1855211400-1855215000@www.thechick.health
SUMMARY:Sunday Morning Vinyasa Flow
DESCRIPTION:An energetic Sunday morning flow designed to work on mindfulness\, asana work\, breath work and connection.
URL:https://www.thechick.health/event/sunday-morning-vinyasa-flow/2028-10-15/
LOCATION:Inspired by Yoga\, 4500 Black Rock Road\, Hampstead\, MD\, 21074\, United States
END:VEVENT
BEGIN:VEVENT
DTSTART;TZID=America/New_York:20281015T100000
DTEND;TZID=America/New_York:20281015T111500
DTSTAMP:20260420T235245
CREATED:20241125T052319Z
LAST-MODIFIED:20241202T194012Z
UID:10003342-1855216800-1855221300@www.thechick.health
SUMMARY:Sunday Morning Yin
DESCRIPTION:An extra long 75 minute delicious Yin practice!  Release the mind\, body and spirit every Sunday\, making your Mondays awesome!
URL:https://www.thechick.health/event/sunday-morning-yin/2028-10-15/
LOCATION:Inspired by Yoga\, 4500 Black Rock Road\, Hampstead\, MD\, 21074\, United States
END:VEVENT
BEGIN:VEVENT
DTSTART;TZID=UTC:20281017T091500
DTEND;TZID=UTC:20281017T101500
DTSTAMP:20260420T235245
CREATED:20241125T053230Z
LAST-MODIFIED:20241127T233817Z
UID:10002818-1855386900-1855390500@www.thechick.health
SUMMARY:Lengthen to Strengthen
DESCRIPTION:Combining Yin\, Hatha and Vinyasa this class takes place in a warm\, not hot room.  The release of fascia\, the opening of the mind and spirit sprinkled with yogic philosophy will have you feeling 10 feet tall and ready to take on all that the outside world has to offer.  Lighten your day with this full body workout and leave with a smile on your face!
URL:https://www.thechick.health/event/lengthen-to-strengthen/2028-10-17/
LOCATION:Inspired by Yoga\, 4500 Black Rock Road\, Hampstead\, MD\, 21074\, United States
END:VEVENT
BEGIN:VEVENT
DTSTART;TZID=UTC:20281018T113000
DTEND;TZID=UTC:20281018T170000
DTSTAMP:20260420T235245
CREATED:20241207T015758Z
LAST-MODIFIED:20241207T015758Z
UID:10006736-1855481400-1855501200@www.thechick.health
SUMMARY:Office Hours
DESCRIPTION:Stop by my office at 15 East Main Street\, Suite 109 in beautiful Downtown Westminster\, Maryland.  Specifically\, the Winchester Exchange Building. \nIf my door is open\, you are always welcome!  Please\, if the door is closed\, knock first before entering. \nA calm and serene location to begin or continue your journey in wellness.
URL:https://www.thechick.health/event/office-hours/2028-10-18/
END:VEVENT
BEGIN:VEVENT
DTSTART;TZID=America/New_York:20281020T101500
DTEND;TZID=America/New_York:20281020T110000
DTSTAMP:20260420T235245
CREATED:20241125T062803Z
LAST-MODIFIED:20241221T044407Z
UID:10003866-1855649700-1855652400@www.thechick.health
SUMMARY:Chair Yoga
DESCRIPTION:Join me on Fridays from 10:15 – 11:00 for a chair yoga session designed to give you all the benefits of yoga without the need to get on the floor\, have special equipment or break a sweat! \n15 East Main Street\, Suite 109 Westminster\, MD. in the Winchester Exchange Building
URL:https://www.thechick.health/event/chair-yoga/2028-10-20/
ORGANIZER;CN="The Chick":MAILTO:brooke@thechick.health
END:VEVENT
BEGIN:VEVENT
DTSTART;TZID=UTC:20281022T083000
DTEND;TZID=UTC:20281022T093000
DTSTAMP:20260420T235245
CREATED:20241112T020931Z
LAST-MODIFIED:20241202T075126Z
UID:10000472-1855816200-1855819800@www.thechick.health
SUMMARY:Sunday Morning Vinyasa Flow
DESCRIPTION:An energetic Sunday morning flow designed to work on mindfulness\, asana work\, breath work and connection.
URL:https://www.thechick.health/event/sunday-morning-vinyasa-flow/2028-10-22/
LOCATION:Inspired by Yoga\, 4500 Black Rock Road\, Hampstead\, MD\, 21074\, United States
END:VEVENT
BEGIN:VEVENT
DTSTART;TZID=America/New_York:20281022T100000
DTEND;TZID=America/New_York:20281022T111500
DTSTAMP:20260420T235245
CREATED:20241125T052319Z
LAST-MODIFIED:20241202T194012Z
UID:10003343-1855821600-1855826100@www.thechick.health
SUMMARY:Sunday Morning Yin
DESCRIPTION:An extra long 75 minute delicious Yin practice!  Release the mind\, body and spirit every Sunday\, making your Mondays awesome!
URL:https://www.thechick.health/event/sunday-morning-yin/2028-10-22/
LOCATION:Inspired by Yoga\, 4500 Black Rock Road\, Hampstead\, MD\, 21074\, United States
END:VEVENT
BEGIN:VEVENT
DTSTART;TZID=UTC:20281024T091500
DTEND;TZID=UTC:20281024T101500
DTSTAMP:20260420T235245
CREATED:20241125T053230Z
LAST-MODIFIED:20241127T233817Z
UID:10002819-1855991700-1855995300@www.thechick.health
SUMMARY:Lengthen to Strengthen
DESCRIPTION:Combining Yin\, Hatha and Vinyasa this class takes place in a warm\, not hot room.  The release of fascia\, the opening of the mind and spirit sprinkled with yogic philosophy will have you feeling 10 feet tall and ready to take on all that the outside world has to offer.  Lighten your day with this full body workout and leave with a smile on your face!
URL:https://www.thechick.health/event/lengthen-to-strengthen/2028-10-24/
LOCATION:Inspired by Yoga\, 4500 Black Rock Road\, Hampstead\, MD\, 21074\, United States
END:VEVENT
BEGIN:VEVENT
DTSTART;TZID=UTC:20281025T113000
DTEND;TZID=UTC:20281025T170000
DTSTAMP:20260420T235245
CREATED:20241207T015758Z
LAST-MODIFIED:20241207T015758Z
UID:10006737-1856086200-1856106000@www.thechick.health
SUMMARY:Office Hours
DESCRIPTION:Stop by my office at 15 East Main Street\, Suite 109 in beautiful Downtown Westminster\, Maryland.  Specifically\, the Winchester Exchange Building. \nIf my door is open\, you are always welcome!  Please\, if the door is closed\, knock first before entering. \nA calm and serene location to begin or continue your journey in wellness.
URL:https://www.thechick.health/event/office-hours/2028-10-25/
END:VEVENT
BEGIN:VEVENT
DTSTART;TZID=America/New_York:20281027T101500
DTEND;TZID=America/New_York:20281027T110000
DTSTAMP:20260420T235245
CREATED:20241125T062803Z
LAST-MODIFIED:20241221T044407Z
UID:10003867-1856254500-1856257200@www.thechick.health
SUMMARY:Chair Yoga
DESCRIPTION:Join me on Fridays from 10:15 – 11:00 for a chair yoga session designed to give you all the benefits of yoga without the need to get on the floor\, have special equipment or break a sweat! \n15 East Main Street\, Suite 109 Westminster\, MD. in the Winchester Exchange Building
URL:https://www.thechick.health/event/chair-yoga/2028-10-27/
ORGANIZER;CN="The Chick":MAILTO:brooke@thechick.health
END:VEVENT
BEGIN:VEVENT
DTSTART;TZID=UTC:20281029T083000
DTEND;TZID=UTC:20281029T093000
DTSTAMP:20260420T235245
CREATED:20241112T020931Z
LAST-MODIFIED:20241202T075126Z
UID:10000473-1856421000-1856424600@www.thechick.health
SUMMARY:Sunday Morning Vinyasa Flow
DESCRIPTION:An energetic Sunday morning flow designed to work on mindfulness\, asana work\, breath work and connection.
URL:https://www.thechick.health/event/sunday-morning-vinyasa-flow/2028-10-29/
LOCATION:Inspired by Yoga\, 4500 Black Rock Road\, Hampstead\, MD\, 21074\, United States
END:VEVENT
BEGIN:VEVENT
DTSTART;TZID=America/New_York:20281029T100000
DTEND;TZID=America/New_York:20281029T111500
DTSTAMP:20260420T235245
CREATED:20241125T052319Z
LAST-MODIFIED:20241202T194012Z
UID:10003344-1856426400-1856430900@www.thechick.health
SUMMARY:Sunday Morning Yin
DESCRIPTION:An extra long 75 minute delicious Yin practice!  Release the mind\, body and spirit every Sunday\, making your Mondays awesome!
URL:https://www.thechick.health/event/sunday-morning-yin/2028-10-29/
LOCATION:Inspired by Yoga\, 4500 Black Rock Road\, Hampstead\, MD\, 21074\, United States
END:VEVENT
BEGIN:VEVENT
DTSTART;TZID=UTC:20281031T091500
DTEND;TZID=UTC:20281031T101500
DTSTAMP:20260420T235245
CREATED:20241125T053230Z
LAST-MODIFIED:20241127T233817Z
UID:10002820-1856596500-1856600100@www.thechick.health
SUMMARY:Lengthen to Strengthen
DESCRIPTION:Combining Yin\, Hatha and Vinyasa this class takes place in a warm\, not hot room.  The release of fascia\, the opening of the mind and spirit sprinkled with yogic philosophy will have you feeling 10 feet tall and ready to take on all that the outside world has to offer.  Lighten your day with this full body workout and leave with a smile on your face!
URL:https://www.thechick.health/event/lengthen-to-strengthen/2028-10-31/
LOCATION:Inspired by Yoga\, 4500 Black Rock Road\, Hampstead\, MD\, 21074\, United States
END:VEVENT
BEGIN:VEVENT
DTSTART;TZID=UTC:20281101T113000
DTEND;TZID=UTC:20281101T170000
DTSTAMP:20260420T235245
CREATED:20241207T015758Z
LAST-MODIFIED:20241207T015758Z
UID:10006738-1856691000-1856710800@www.thechick.health
SUMMARY:Office Hours
DESCRIPTION:Stop by my office at 15 East Main Street\, Suite 109 in beautiful Downtown Westminster\, Maryland.  Specifically\, the Winchester Exchange Building. \nIf my door is open\, you are always welcome!  Please\, if the door is closed\, knock first before entering. \nA calm and serene location to begin or continue your journey in wellness.
URL:https://www.thechick.health/event/office-hours/2028-11-01/
END:VEVENT
BEGIN:VEVENT
DTSTART;TZID=America/New_York:20281103T101500
DTEND;TZID=America/New_York:20281103T110000
DTSTAMP:20260420T235245
CREATED:20241125T062803Z
LAST-MODIFIED:20241221T044407Z
UID:10003868-1856859300-1856862000@www.thechick.health
SUMMARY:Chair Yoga
DESCRIPTION:Join me on Fridays from 10:15 – 11:00 for a chair yoga session designed to give you all the benefits of yoga without the need to get on the floor\, have special equipment or break a sweat! \n15 East Main Street\, Suite 109 Westminster\, MD. in the Winchester Exchange Building
URL:https://www.thechick.health/event/chair-yoga/2028-11-03/
ORGANIZER;CN="The Chick":MAILTO:brooke@thechick.health
END:VEVENT
BEGIN:VEVENT
DTSTART;TZID=UTC:20281105T083000
DTEND;TZID=UTC:20281105T093000
DTSTAMP:20260420T235245
CREATED:20241112T020931Z
LAST-MODIFIED:20241202T075126Z
UID:10000474-1857025800-1857029400@www.thechick.health
SUMMARY:Sunday Morning Vinyasa Flow
DESCRIPTION:An energetic Sunday morning flow designed to work on mindfulness\, asana work\, breath work and connection.
URL:https://www.thechick.health/event/sunday-morning-vinyasa-flow/2028-11-05/
LOCATION:Inspired by Yoga\, 4500 Black Rock Road\, Hampstead\, MD\, 21074\, United States
END:VEVENT
BEGIN:VEVENT
DTSTART;TZID=America/New_York:20281105T100000
DTEND;TZID=America/New_York:20281105T111500
DTSTAMP:20260420T235245
CREATED:20241125T052319Z
LAST-MODIFIED:20241202T194012Z
UID:10003345-1857031200-1857035700@www.thechick.health
SUMMARY:Sunday Morning Yin
DESCRIPTION:An extra long 75 minute delicious Yin practice!  Release the mind\, body and spirit every Sunday\, making your Mondays awesome!
URL:https://www.thechick.health/event/sunday-morning-yin/2028-11-05/
LOCATION:Inspired by Yoga\, 4500 Black Rock Road\, Hampstead\, MD\, 21074\, United States
END:VEVENT
BEGIN:VEVENT
DTSTART;TZID=UTC:20281107T091500
DTEND;TZID=UTC:20281107T101500
DTSTAMP:20260420T235245
CREATED:20241125T053230Z
LAST-MODIFIED:20241127T233817Z
UID:10002821-1857201300-1857204900@www.thechick.health
SUMMARY:Lengthen to Strengthen
DESCRIPTION:Combining Yin\, Hatha and Vinyasa this class takes place in a warm\, not hot room.  The release of fascia\, the opening of the mind and spirit sprinkled with yogic philosophy will have you feeling 10 feet tall and ready to take on all that the outside world has to offer.  Lighten your day with this full body workout and leave with a smile on your face!
URL:https://www.thechick.health/event/lengthen-to-strengthen/2028-11-07/
LOCATION:Inspired by Yoga\, 4500 Black Rock Road\, Hampstead\, MD\, 21074\, United States
END:VEVENT
BEGIN:VEVENT
DTSTART;TZID=UTC:20281108T113000
DTEND;TZID=UTC:20281108T170000
DTSTAMP:20260420T235245
CREATED:20241207T015758Z
LAST-MODIFIED:20241207T015758Z
UID:10006739-1857295800-1857315600@www.thechick.health
SUMMARY:Office Hours
DESCRIPTION:Stop by my office at 15 East Main Street\, Suite 109 in beautiful Downtown Westminster\, Maryland.  Specifically\, the Winchester Exchange Building. \nIf my door is open\, you are always welcome!  Please\, if the door is closed\, knock first before entering. \nA calm and serene location to begin or continue your journey in wellness.
URL:https://www.thechick.health/event/office-hours/2028-11-08/
END:VEVENT
BEGIN:VEVENT
DTSTART;TZID=America/New_York:20281110T101500
DTEND;TZID=America/New_York:20281110T110000
DTSTAMP:20260420T235245
CREATED:20241125T062803Z
LAST-MODIFIED:20241221T044407Z
UID:10003869-1857464100-1857466800@www.thechick.health
SUMMARY:Chair Yoga
DESCRIPTION:Join me on Fridays from 10:15 – 11:00 for a chair yoga session designed to give you all the benefits of yoga without the need to get on the floor\, have special equipment or break a sweat! \n15 East Main Street\, Suite 109 Westminster\, MD. in the Winchester Exchange Building
URL:https://www.thechick.health/event/chair-yoga/2028-11-10/
ORGANIZER;CN="The Chick":MAILTO:brooke@thechick.health
END:VEVENT
BEGIN:VEVENT
DTSTART;TZID=UTC:20281112T083000
DTEND;TZID=UTC:20281112T093000
DTSTAMP:20260420T235245
CREATED:20241112T020931Z
LAST-MODIFIED:20241202T075126Z
UID:10000475-1857630600-1857634200@www.thechick.health
SUMMARY:Sunday Morning Vinyasa Flow
DESCRIPTION:An energetic Sunday morning flow designed to work on mindfulness\, asana work\, breath work and connection.
URL:https://www.thechick.health/event/sunday-morning-vinyasa-flow/2028-11-12/
LOCATION:Inspired by Yoga\, 4500 Black Rock Road\, Hampstead\, MD\, 21074\, United States
END:VEVENT
END:VCALENDAR