BEGIN:VCALENDAR
VERSION:2.0
PRODID:-//The Chick - ECPv6.15.20//NONSGML v1.0//EN
CALSCALE:GREGORIAN
METHOD:PUBLISH
X-WR-CALNAME:The Chick
X-ORIGINAL-URL:https://www.thechick.health
X-WR-CALDESC:Events for The Chick
REFRESH-INTERVAL;VALUE=DURATION:PT1H
X-Robots-Tag:noindex
X-PUBLISHED-TTL:PT1H
BEGIN:VTIMEZONE
TZID:America/New_York
BEGIN:DAYLIGHT
TZOFFSETFROM:-0500
TZOFFSETTO:-0400
TZNAME:EDT
DTSTART:20270314T070000
END:DAYLIGHT
BEGIN:STANDARD
TZOFFSETFROM:-0400
TZOFFSETTO:-0500
TZNAME:EST
DTSTART:20271107T060000
END:STANDARD
BEGIN:DAYLIGHT
TZOFFSETFROM:-0500
TZOFFSETTO:-0400
TZNAME:EDT
DTSTART:20280312T070000
END:DAYLIGHT
BEGIN:STANDARD
TZOFFSETFROM:-0400
TZOFFSETTO:-0500
TZNAME:EST
DTSTART:20281105T060000
END:STANDARD
BEGIN:DAYLIGHT
TZOFFSETFROM:-0500
TZOFFSETTO:-0400
TZNAME:EDT
DTSTART:20290311T070000
END:DAYLIGHT
BEGIN:STANDARD
TZOFFSETFROM:-0400
TZOFFSETTO:-0500
TZNAME:EST
DTSTART:20291104T060000
END:STANDARD
END:VTIMEZONE
BEGIN:VTIMEZONE
TZID:UTC
BEGIN:STANDARD
TZOFFSETFROM:+0000
TZOFFSETTO:+0000
TZNAME:UTC
DTSTART:20270101T000000
END:STANDARD
END:VTIMEZONE
BEGIN:VEVENT
DTSTART;TZID=America/New_York:20281124T101500
DTEND;TZID=America/New_York:20281124T110000
DTSTAMP:20260421T010951
CREATED:20241125T062803Z
LAST-MODIFIED:20241221T044407Z
UID:10003871-1858673700-1858676400@www.thechick.health
SUMMARY:Chair Yoga
DESCRIPTION:Join me on Fridays from 10:15 – 11:00 for a chair yoga session designed to give you all the benefits of yoga without the need to get on the floor\, have special equipment or break a sweat! \n15 East Main Street\, Suite 109 Westminster\, MD. in the Winchester Exchange Building
URL:https://www.thechick.health/event/chair-yoga/2028-11-24/
ORGANIZER;CN="The Chick":MAILTO:brooke@thechick.health
END:VEVENT
BEGIN:VEVENT
DTSTART;TZID=UTC:20281126T083000
DTEND;TZID=UTC:20281126T093000
DTSTAMP:20260421T010951
CREATED:20241112T020931Z
LAST-MODIFIED:20241202T075126Z
UID:10000477-1858840200-1858843800@www.thechick.health
SUMMARY:Sunday Morning Vinyasa Flow
DESCRIPTION:An energetic Sunday morning flow designed to work on mindfulness\, asana work\, breath work and connection.
URL:https://www.thechick.health/event/sunday-morning-vinyasa-flow/2028-11-26/
LOCATION:Inspired by Yoga\, 4500 Black Rock Road\, Hampstead\, MD\, 21074\, United States
END:VEVENT
BEGIN:VEVENT
DTSTART;TZID=America/New_York:20281126T100000
DTEND;TZID=America/New_York:20281126T111500
DTSTAMP:20260421T010951
CREATED:20241125T052319Z
LAST-MODIFIED:20241202T194012Z
UID:10003348-1858845600-1858850100@www.thechick.health
SUMMARY:Sunday Morning Yin
DESCRIPTION:An extra long 75 minute delicious Yin practice!  Release the mind\, body and spirit every Sunday\, making your Mondays awesome!
URL:https://www.thechick.health/event/sunday-morning-yin/2028-11-26/
LOCATION:Inspired by Yoga\, 4500 Black Rock Road\, Hampstead\, MD\, 21074\, United States
END:VEVENT
BEGIN:VEVENT
DTSTART;TZID=UTC:20281128T091500
DTEND;TZID=UTC:20281128T101500
DTSTAMP:20260421T010951
CREATED:20241125T053230Z
LAST-MODIFIED:20241127T233817Z
UID:10002824-1859015700-1859019300@www.thechick.health
SUMMARY:Lengthen to Strengthen
DESCRIPTION:Combining Yin\, Hatha and Vinyasa this class takes place in a warm\, not hot room.  The release of fascia\, the opening of the mind and spirit sprinkled with yogic philosophy will have you feeling 10 feet tall and ready to take on all that the outside world has to offer.  Lighten your day with this full body workout and leave with a smile on your face!
URL:https://www.thechick.health/event/lengthen-to-strengthen/2028-11-28/
LOCATION:Inspired by Yoga\, 4500 Black Rock Road\, Hampstead\, MD\, 21074\, United States
END:VEVENT
BEGIN:VEVENT
DTSTART;TZID=UTC:20281129T113000
DTEND;TZID=UTC:20281129T170000
DTSTAMP:20260421T010951
CREATED:20241207T015758Z
LAST-MODIFIED:20241207T015758Z
UID:10006742-1859110200-1859130000@www.thechick.health
SUMMARY:Office Hours
DESCRIPTION:Stop by my office at 15 East Main Street\, Suite 109 in beautiful Downtown Westminster\, Maryland.  Specifically\, the Winchester Exchange Building. \nIf my door is open\, you are always welcome!  Please\, if the door is closed\, knock first before entering. \nA calm and serene location to begin or continue your journey in wellness.
URL:https://www.thechick.health/event/office-hours/2028-11-29/
END:VEVENT
BEGIN:VEVENT
DTSTART;TZID=America/New_York:20281201T101500
DTEND;TZID=America/New_York:20281201T110000
DTSTAMP:20260421T010951
CREATED:20241125T062803Z
LAST-MODIFIED:20241221T044407Z
UID:10003872-1859278500-1859281200@www.thechick.health
SUMMARY:Chair Yoga
DESCRIPTION:Join me on Fridays from 10:15 – 11:00 for a chair yoga session designed to give you all the benefits of yoga without the need to get on the floor\, have special equipment or break a sweat! \n15 East Main Street\, Suite 109 Westminster\, MD. in the Winchester Exchange Building
URL:https://www.thechick.health/event/chair-yoga/2028-12-01/
ORGANIZER;CN="The Chick":MAILTO:brooke@thechick.health
END:VEVENT
BEGIN:VEVENT
DTSTART;TZID=UTC:20281203T083000
DTEND;TZID=UTC:20281203T093000
DTSTAMP:20260421T010951
CREATED:20241112T020931Z
LAST-MODIFIED:20241202T075126Z
UID:10000478-1859445000-1859448600@www.thechick.health
SUMMARY:Sunday Morning Vinyasa Flow
DESCRIPTION:An energetic Sunday morning flow designed to work on mindfulness\, asana work\, breath work and connection.
URL:https://www.thechick.health/event/sunday-morning-vinyasa-flow/2028-12-03/
LOCATION:Inspired by Yoga\, 4500 Black Rock Road\, Hampstead\, MD\, 21074\, United States
END:VEVENT
BEGIN:VEVENT
DTSTART;TZID=America/New_York:20281203T100000
DTEND;TZID=America/New_York:20281203T111500
DTSTAMP:20260421T010951
CREATED:20241125T052319Z
LAST-MODIFIED:20241202T194012Z
UID:10003349-1859450400-1859454900@www.thechick.health
SUMMARY:Sunday Morning Yin
DESCRIPTION:An extra long 75 minute delicious Yin practice!  Release the mind\, body and spirit every Sunday\, making your Mondays awesome!
URL:https://www.thechick.health/event/sunday-morning-yin/2028-12-03/
LOCATION:Inspired by Yoga\, 4500 Black Rock Road\, Hampstead\, MD\, 21074\, United States
END:VEVENT
BEGIN:VEVENT
DTSTART;TZID=UTC:20281205T091500
DTEND;TZID=UTC:20281205T101500
DTSTAMP:20260421T010951
CREATED:20241125T053230Z
LAST-MODIFIED:20241127T233817Z
UID:10002825-1859620500-1859624100@www.thechick.health
SUMMARY:Lengthen to Strengthen
DESCRIPTION:Combining Yin\, Hatha and Vinyasa this class takes place in a warm\, not hot room.  The release of fascia\, the opening of the mind and spirit sprinkled with yogic philosophy will have you feeling 10 feet tall and ready to take on all that the outside world has to offer.  Lighten your day with this full body workout and leave with a smile on your face!
URL:https://www.thechick.health/event/lengthen-to-strengthen/2028-12-05/
LOCATION:Inspired by Yoga\, 4500 Black Rock Road\, Hampstead\, MD\, 21074\, United States
END:VEVENT
BEGIN:VEVENT
DTSTART;TZID=UTC:20281206T113000
DTEND;TZID=UTC:20281206T170000
DTSTAMP:20260421T010951
CREATED:20241207T015758Z
LAST-MODIFIED:20241207T015758Z
UID:10006743-1859715000-1859734800@www.thechick.health
SUMMARY:Office Hours
DESCRIPTION:Stop by my office at 15 East Main Street\, Suite 109 in beautiful Downtown Westminster\, Maryland.  Specifically\, the Winchester Exchange Building. \nIf my door is open\, you are always welcome!  Please\, if the door is closed\, knock first before entering. \nA calm and serene location to begin or continue your journey in wellness.
URL:https://www.thechick.health/event/office-hours/2028-12-06/
END:VEVENT
BEGIN:VEVENT
DTSTART;TZID=America/New_York:20281208T101500
DTEND;TZID=America/New_York:20281208T110000
DTSTAMP:20260421T010951
CREATED:20241125T062803Z
LAST-MODIFIED:20241221T044407Z
UID:10003873-1859883300-1859886000@www.thechick.health
SUMMARY:Chair Yoga
DESCRIPTION:Join me on Fridays from 10:15 – 11:00 for a chair yoga session designed to give you all the benefits of yoga without the need to get on the floor\, have special equipment or break a sweat! \n15 East Main Street\, Suite 109 Westminster\, MD. in the Winchester Exchange Building
URL:https://www.thechick.health/event/chair-yoga/2028-12-08/
ORGANIZER;CN="The Chick":MAILTO:brooke@thechick.health
END:VEVENT
BEGIN:VEVENT
DTSTART;TZID=UTC:20281210T083000
DTEND;TZID=UTC:20281210T093000
DTSTAMP:20260421T010951
CREATED:20241112T020931Z
LAST-MODIFIED:20241202T075126Z
UID:10000479-1860049800-1860053400@www.thechick.health
SUMMARY:Sunday Morning Vinyasa Flow
DESCRIPTION:An energetic Sunday morning flow designed to work on mindfulness\, asana work\, breath work and connection.
URL:https://www.thechick.health/event/sunday-morning-vinyasa-flow/2028-12-10/
LOCATION:Inspired by Yoga\, 4500 Black Rock Road\, Hampstead\, MD\, 21074\, United States
END:VEVENT
BEGIN:VEVENT
DTSTART;TZID=America/New_York:20281210T100000
DTEND;TZID=America/New_York:20281210T111500
DTSTAMP:20260421T010951
CREATED:20241125T052319Z
LAST-MODIFIED:20241202T194012Z
UID:10003350-1860055200-1860059700@www.thechick.health
SUMMARY:Sunday Morning Yin
DESCRIPTION:An extra long 75 minute delicious Yin practice!  Release the mind\, body and spirit every Sunday\, making your Mondays awesome!
URL:https://www.thechick.health/event/sunday-morning-yin/2028-12-10/
LOCATION:Inspired by Yoga\, 4500 Black Rock Road\, Hampstead\, MD\, 21074\, United States
END:VEVENT
BEGIN:VEVENT
DTSTART;TZID=UTC:20281212T091500
DTEND;TZID=UTC:20281212T101500
DTSTAMP:20260421T010951
CREATED:20241125T053230Z
LAST-MODIFIED:20241127T233817Z
UID:10002826-1860225300-1860228900@www.thechick.health
SUMMARY:Lengthen to Strengthen
DESCRIPTION:Combining Yin\, Hatha and Vinyasa this class takes place in a warm\, not hot room.  The release of fascia\, the opening of the mind and spirit sprinkled with yogic philosophy will have you feeling 10 feet tall and ready to take on all that the outside world has to offer.  Lighten your day with this full body workout and leave with a smile on your face!
URL:https://www.thechick.health/event/lengthen-to-strengthen/2028-12-12/
LOCATION:Inspired by Yoga\, 4500 Black Rock Road\, Hampstead\, MD\, 21074\, United States
END:VEVENT
BEGIN:VEVENT
DTSTART;TZID=UTC:20281213T113000
DTEND;TZID=UTC:20281213T170000
DTSTAMP:20260421T010951
CREATED:20241207T015758Z
LAST-MODIFIED:20241207T015758Z
UID:10006744-1860319800-1860339600@www.thechick.health
SUMMARY:Office Hours
DESCRIPTION:Stop by my office at 15 East Main Street\, Suite 109 in beautiful Downtown Westminster\, Maryland.  Specifically\, the Winchester Exchange Building. \nIf my door is open\, you are always welcome!  Please\, if the door is closed\, knock first before entering. \nA calm and serene location to begin or continue your journey in wellness.
URL:https://www.thechick.health/event/office-hours/2028-12-13/
END:VEVENT
BEGIN:VEVENT
DTSTART;TZID=America/New_York:20281215T101500
DTEND;TZID=America/New_York:20281215T110000
DTSTAMP:20260421T010951
CREATED:20241125T062803Z
LAST-MODIFIED:20241221T044407Z
UID:10003874-1860488100-1860490800@www.thechick.health
SUMMARY:Chair Yoga
DESCRIPTION:Join me on Fridays from 10:15 – 11:00 for a chair yoga session designed to give you all the benefits of yoga without the need to get on the floor\, have special equipment or break a sweat! \n15 East Main Street\, Suite 109 Westminster\, MD. in the Winchester Exchange Building
URL:https://www.thechick.health/event/chair-yoga/2028-12-15/
ORGANIZER;CN="The Chick":MAILTO:brooke@thechick.health
END:VEVENT
BEGIN:VEVENT
DTSTART;TZID=UTC:20281217T083000
DTEND;TZID=UTC:20281217T093000
DTSTAMP:20260421T010951
CREATED:20241112T020931Z
LAST-MODIFIED:20241202T075126Z
UID:10000480-1860654600-1860658200@www.thechick.health
SUMMARY:Sunday Morning Vinyasa Flow
DESCRIPTION:An energetic Sunday morning flow designed to work on mindfulness\, asana work\, breath work and connection.
URL:https://www.thechick.health/event/sunday-morning-vinyasa-flow/2028-12-17/
LOCATION:Inspired by Yoga\, 4500 Black Rock Road\, Hampstead\, MD\, 21074\, United States
END:VEVENT
BEGIN:VEVENT
DTSTART;TZID=America/New_York:20281217T100000
DTEND;TZID=America/New_York:20281217T111500
DTSTAMP:20260421T010951
CREATED:20241125T052319Z
LAST-MODIFIED:20241202T194012Z
UID:10003351-1860660000-1860664500@www.thechick.health
SUMMARY:Sunday Morning Yin
DESCRIPTION:An extra long 75 minute delicious Yin practice!  Release the mind\, body and spirit every Sunday\, making your Mondays awesome!
URL:https://www.thechick.health/event/sunday-morning-yin/2028-12-17/
LOCATION:Inspired by Yoga\, 4500 Black Rock Road\, Hampstead\, MD\, 21074\, United States
END:VEVENT
BEGIN:VEVENT
DTSTART;TZID=UTC:20281219T091500
DTEND;TZID=UTC:20281219T101500
DTSTAMP:20260421T010951
CREATED:20241125T053230Z
LAST-MODIFIED:20241127T233817Z
UID:10002827-1860830100-1860833700@www.thechick.health
SUMMARY:Lengthen to Strengthen
DESCRIPTION:Combining Yin\, Hatha and Vinyasa this class takes place in a warm\, not hot room.  The release of fascia\, the opening of the mind and spirit sprinkled with yogic philosophy will have you feeling 10 feet tall and ready to take on all that the outside world has to offer.  Lighten your day with this full body workout and leave with a smile on your face!
URL:https://www.thechick.health/event/lengthen-to-strengthen/2028-12-19/
LOCATION:Inspired by Yoga\, 4500 Black Rock Road\, Hampstead\, MD\, 21074\, United States
END:VEVENT
BEGIN:VEVENT
DTSTART;TZID=UTC:20281220T113000
DTEND;TZID=UTC:20281220T170000
DTSTAMP:20260421T010951
CREATED:20241207T015758Z
LAST-MODIFIED:20241207T015758Z
UID:10006745-1860924600-1860944400@www.thechick.health
SUMMARY:Office Hours
DESCRIPTION:Stop by my office at 15 East Main Street\, Suite 109 in beautiful Downtown Westminster\, Maryland.  Specifically\, the Winchester Exchange Building. \nIf my door is open\, you are always welcome!  Please\, if the door is closed\, knock first before entering. \nA calm and serene location to begin or continue your journey in wellness.
URL:https://www.thechick.health/event/office-hours/2028-12-20/
END:VEVENT
BEGIN:VEVENT
DTSTART;TZID=America/New_York:20281222T101500
DTEND;TZID=America/New_York:20281222T110000
DTSTAMP:20260421T010951
CREATED:20241125T062803Z
LAST-MODIFIED:20241221T044407Z
UID:10003875-1861092900-1861095600@www.thechick.health
SUMMARY:Chair Yoga
DESCRIPTION:Join me on Fridays from 10:15 – 11:00 for a chair yoga session designed to give you all the benefits of yoga without the need to get on the floor\, have special equipment or break a sweat! \n15 East Main Street\, Suite 109 Westminster\, MD. in the Winchester Exchange Building
URL:https://www.thechick.health/event/chair-yoga/2028-12-22/
ORGANIZER;CN="The Chick":MAILTO:brooke@thechick.health
END:VEVENT
BEGIN:VEVENT
DTSTART;TZID=UTC:20281224T083000
DTEND;TZID=UTC:20281224T093000
DTSTAMP:20260421T010951
CREATED:20241112T020931Z
LAST-MODIFIED:20241202T075126Z
UID:10000481-1861259400-1861263000@www.thechick.health
SUMMARY:Sunday Morning Vinyasa Flow
DESCRIPTION:An energetic Sunday morning flow designed to work on mindfulness\, asana work\, breath work and connection.
URL:https://www.thechick.health/event/sunday-morning-vinyasa-flow/2028-12-24/
LOCATION:Inspired by Yoga\, 4500 Black Rock Road\, Hampstead\, MD\, 21074\, United States
END:VEVENT
BEGIN:VEVENT
DTSTART;TZID=America/New_York:20281224T100000
DTEND;TZID=America/New_York:20281224T111500
DTSTAMP:20260421T010951
CREATED:20241125T052319Z
LAST-MODIFIED:20241202T194012Z
UID:10003352-1861264800-1861269300@www.thechick.health
SUMMARY:Sunday Morning Yin
DESCRIPTION:An extra long 75 minute delicious Yin practice!  Release the mind\, body and spirit every Sunday\, making your Mondays awesome!
URL:https://www.thechick.health/event/sunday-morning-yin/2028-12-24/
LOCATION:Inspired by Yoga\, 4500 Black Rock Road\, Hampstead\, MD\, 21074\, United States
END:VEVENT
BEGIN:VEVENT
DTSTART;TZID=UTC:20281226T091500
DTEND;TZID=UTC:20281226T101500
DTSTAMP:20260421T010951
CREATED:20241125T053230Z
LAST-MODIFIED:20241127T233817Z
UID:10002828-1861434900-1861438500@www.thechick.health
SUMMARY:Lengthen to Strengthen
DESCRIPTION:Combining Yin\, Hatha and Vinyasa this class takes place in a warm\, not hot room.  The release of fascia\, the opening of the mind and spirit sprinkled with yogic philosophy will have you feeling 10 feet tall and ready to take on all that the outside world has to offer.  Lighten your day with this full body workout and leave with a smile on your face!
URL:https://www.thechick.health/event/lengthen-to-strengthen/2028-12-26/
LOCATION:Inspired by Yoga\, 4500 Black Rock Road\, Hampstead\, MD\, 21074\, United States
END:VEVENT
BEGIN:VEVENT
DTSTART;TZID=UTC:20281227T113000
DTEND;TZID=UTC:20281227T170000
DTSTAMP:20260421T010951
CREATED:20241207T015758Z
LAST-MODIFIED:20241207T015758Z
UID:10006746-1861529400-1861549200@www.thechick.health
SUMMARY:Office Hours
DESCRIPTION:Stop by my office at 15 East Main Street\, Suite 109 in beautiful Downtown Westminster\, Maryland.  Specifically\, the Winchester Exchange Building. \nIf my door is open\, you are always welcome!  Please\, if the door is closed\, knock first before entering. \nA calm and serene location to begin or continue your journey in wellness.
URL:https://www.thechick.health/event/office-hours/2028-12-27/
END:VEVENT
BEGIN:VEVENT
DTSTART;TZID=America/New_York:20281229T101500
DTEND;TZID=America/New_York:20281229T110000
DTSTAMP:20260421T010951
CREATED:20241125T062803Z
LAST-MODIFIED:20241221T044407Z
UID:10003876-1861697700-1861700400@www.thechick.health
SUMMARY:Chair Yoga
DESCRIPTION:Join me on Fridays from 10:15 – 11:00 for a chair yoga session designed to give you all the benefits of yoga without the need to get on the floor\, have special equipment or break a sweat! \n15 East Main Street\, Suite 109 Westminster\, MD. in the Winchester Exchange Building
URL:https://www.thechick.health/event/chair-yoga/2028-12-29/
ORGANIZER;CN="The Chick":MAILTO:brooke@thechick.health
END:VEVENT
BEGIN:VEVENT
DTSTART;TZID=UTC:20281231T083000
DTEND;TZID=UTC:20281231T093000
DTSTAMP:20260421T010951
CREATED:20241112T020931Z
LAST-MODIFIED:20241202T075126Z
UID:10000482-1861864200-1861867800@www.thechick.health
SUMMARY:Sunday Morning Vinyasa Flow
DESCRIPTION:An energetic Sunday morning flow designed to work on mindfulness\, asana work\, breath work and connection.
URL:https://www.thechick.health/event/sunday-morning-vinyasa-flow/2028-12-31/
LOCATION:Inspired by Yoga\, 4500 Black Rock Road\, Hampstead\, MD\, 21074\, United States
END:VEVENT
BEGIN:VEVENT
DTSTART;TZID=America/New_York:20281231T100000
DTEND;TZID=America/New_York:20281231T111500
DTSTAMP:20260421T010951
CREATED:20241125T052319Z
LAST-MODIFIED:20241202T194012Z
UID:10003353-1861869600-1861874100@www.thechick.health
SUMMARY:Sunday Morning Yin
DESCRIPTION:An extra long 75 minute delicious Yin practice!  Release the mind\, body and spirit every Sunday\, making your Mondays awesome!
URL:https://www.thechick.health/event/sunday-morning-yin/2028-12-31/
LOCATION:Inspired by Yoga\, 4500 Black Rock Road\, Hampstead\, MD\, 21074\, United States
END:VEVENT
BEGIN:VEVENT
DTSTART;TZID=UTC:20290102T091500
DTEND;TZID=UTC:20290102T101500
DTSTAMP:20260421T010951
CREATED:20241125T053230Z
LAST-MODIFIED:20241127T233817Z
UID:10002829-1862039700-1862043300@www.thechick.health
SUMMARY:Lengthen to Strengthen
DESCRIPTION:Combining Yin\, Hatha and Vinyasa this class takes place in a warm\, not hot room.  The release of fascia\, the opening of the mind and spirit sprinkled with yogic philosophy will have you feeling 10 feet tall and ready to take on all that the outside world has to offer.  Lighten your day with this full body workout and leave with a smile on your face!
URL:https://www.thechick.health/event/lengthen-to-strengthen/2029-01-02/
LOCATION:Inspired by Yoga\, 4500 Black Rock Road\, Hampstead\, MD\, 21074\, United States
END:VEVENT
BEGIN:VEVENT
DTSTART;TZID=UTC:20290103T113000
DTEND;TZID=UTC:20290103T170000
DTSTAMP:20260421T010951
CREATED:20241207T015758Z
LAST-MODIFIED:20241207T015758Z
UID:10006747-1862134200-1862154000@www.thechick.health
SUMMARY:Office Hours
DESCRIPTION:Stop by my office at 15 East Main Street\, Suite 109 in beautiful Downtown Westminster\, Maryland.  Specifically\, the Winchester Exchange Building. \nIf my door is open\, you are always welcome!  Please\, if the door is closed\, knock first before entering. \nA calm and serene location to begin or continue your journey in wellness.
URL:https://www.thechick.health/event/office-hours/2029-01-03/
END:VEVENT
END:VCALENDAR